BEGIN:VCALENDAR
VERSION:2.0
PRODID:-//Steer Your Business - ECPv6.15.17.1//NONSGML v1.0//EN
CALSCALE:GREGORIAN
METHOD:PUBLISH
X-WR-CALNAME:Steer Your Business
X-ORIGINAL-URL:https://dev.steeryourbusiness.com
X-WR-CALDESC:Events for Steer Your Business
REFRESH-INTERVAL;VALUE=DURATION:PT1H
X-Robots-Tag:noindex
X-PUBLISHED-TTL:PT1H
BEGIN:VTIMEZONE
TZID:Europe/London
BEGIN:DAYLIGHT
TZOFFSETFROM:+0000
TZOFFSETTO:+0100
TZNAME:BST
DTSTART:20190331T010000
END:DAYLIGHT
BEGIN:STANDARD
TZOFFSETFROM:+0100
TZOFFSETTO:+0000
TZNAME:GMT
DTSTART:20191027T010000
END:STANDARD
BEGIN:DAYLIGHT
TZOFFSETFROM:+0000
TZOFFSETTO:+0100
TZNAME:BST
DTSTART:20200329T010000
END:DAYLIGHT
BEGIN:STANDARD
TZOFFSETFROM:+0100
TZOFFSETTO:+0000
TZNAME:GMT
DTSTART:20201025T010000
END:STANDARD
BEGIN:DAYLIGHT
TZOFFSETFROM:+0000
TZOFFSETTO:+0100
TZNAME:BST
DTSTART:20210328T010000
END:DAYLIGHT
BEGIN:STANDARD
TZOFFSETFROM:+0100
TZOFFSETTO:+0000
TZNAME:GMT
DTSTART:20211031T010000
END:STANDARD
END:VTIMEZONE
BEGIN:VEVENT
DTSTART;TZID=Europe/London:20200401T071500
DTEND;TZID=Europe/London:20200401T090000
DTSTAMP:20260425T114748
CREATED:20200330T133612Z
LAST-MODIFIED:20200330T133612Z
UID:7678-1585725300-1585731600@dev.steeryourbusiness.com
SUMMARY:Network B2B - Wetherby
DESCRIPTION:This is a virtual meeting.  Please check the website for details
URL:https://dev.steeryourbusiness.com/event/network-b2b-wetherby/
ATTACH;FMTTYPE=image/png:https://dev.steeryourbusiness.com/wp-content/uploads/2020/03/Network-B2B.png
END:VEVENT
BEGIN:VEVENT
DTSTART;TZID=Europe/London:20200401T071500
DTEND;TZID=Europe/London:20200401T090000
DTSTAMP:20260425T114748
CREATED:20200330T133735Z
LAST-MODIFIED:20200330T133735Z
UID:7680-1585725300-1585731600@dev.steeryourbusiness.com
SUMMARY:Network B2B - York
DESCRIPTION:This is a virtual meeting.  Please check the website for details
URL:https://dev.steeryourbusiness.com/event/network-b2b-york-2/
ATTACH;FMTTYPE=image/png:https://dev.steeryourbusiness.com/wp-content/uploads/2020/03/Network-B2B.png
END:VEVENT
BEGIN:VEVENT
DTSTART;TZID=Europe/London:20200401T071500
DTEND;TZID=Europe/London:20200401T090000
DTSTAMP:20260425T114748
CREATED:20200330T134144Z
LAST-MODIFIED:20200330T134144Z
UID:7682-1585725300-1585731600@dev.steeryourbusiness.com
SUMMARY:Network B2B - Jesmond
DESCRIPTION:This is a virtual meeting.  Please check the website for details
URL:https://dev.steeryourbusiness.com/event/network-b2b-jesmond/
ATTACH;FMTTYPE=image/png:https://dev.steeryourbusiness.com/wp-content/uploads/2020/03/Network-B2B.png
END:VEVENT
BEGIN:VEVENT
DTSTART;TZID=Europe/London:20200401T071500
DTEND;TZID=Europe/London:20200401T090000
DTSTAMP:20260425T114748
CREATED:20200330T134443Z
LAST-MODIFIED:20200330T134443Z
UID:7686-1585725300-1585731600@dev.steeryourbusiness.com
SUMMARY:Network B2B - Wakefield
DESCRIPTION:This is a virtual meeting.  Please check the website for details
URL:https://dev.steeryourbusiness.com/event/network-b2b-wakefield/
ATTACH;FMTTYPE=image/png:https://dev.steeryourbusiness.com/wp-content/uploads/2020/03/Network-B2B.png
END:VEVENT
BEGIN:VEVENT
DTSTART;TZID=Europe/London:20200401T071500
DTEND;TZID=Europe/London:20200401T090000
DTSTAMP:20260425T114748
CREATED:20200330T134738Z
LAST-MODIFIED:20200330T134738Z
UID:7688-1585725300-1585731600@dev.steeryourbusiness.com
SUMMARY:Network B2B - Derby
DESCRIPTION:This is a virtual meeting.  Please check the website for details
URL:https://dev.steeryourbusiness.com/event/network-b2b-derby/
ATTACH;FMTTYPE=image/png:https://dev.steeryourbusiness.com/wp-content/uploads/2020/03/Network-B2B.png
END:VEVENT
BEGIN:VEVENT
DTSTART;TZID=Europe/London:20200401T071500
DTEND;TZID=Europe/London:20200401T090000
DTSTAMP:20260425T114748
CREATED:20200330T135028Z
LAST-MODIFIED:20200330T135028Z
UID:7692-1585725300-1585731600@dev.steeryourbusiness.com
SUMMARY:Network B2B - East Malling
DESCRIPTION:This is a virtual meeting.  Please check the website for details
URL:https://dev.steeryourbusiness.com/event/network-b2b-east-malling/
ATTACH;FMTTYPE=image/png:https://dev.steeryourbusiness.com/wp-content/uploads/2020/03/Network-B2B.png
END:VEVENT
BEGIN:VEVENT
DTSTART;TZID=Europe/London:20200401T080000
DTEND;TZID=Europe/London:20200401T193000
DTSTAMP:20260425T114748
CREATED:20200330T160854Z
LAST-MODIFIED:20200330T160854Z
UID:7750-1585728000-1585769400@dev.steeryourbusiness.com
SUMMARY:4 Networking
DESCRIPTION:Online networking up to 6 times a day!
URL:https://dev.steeryourbusiness.com/event/4-networking/
ATTACH;FMTTYPE=image/jpeg:https://dev.steeryourbusiness.com/wp-content/uploads/2020/03/4N-Online.jpg
END:VEVENT
BEGIN:VEVENT
DTSTART;TZID=Europe/London:20200401T080000
DTEND;TZID=Europe/London:20200401T193000
DTSTAMP:20260425T114748
CREATED:20200331T084958Z
LAST-MODIFIED:20200331T084958Z
UID:7764-1585728000-1585769400@dev.steeryourbusiness.com
SUMMARY:4 Networking
DESCRIPTION:Virtual networking up to 6 times a day!
URL:https://dev.steeryourbusiness.com/event/4-networking-4/
ATTACH;FMTTYPE=image/jpeg:https://dev.steeryourbusiness.com/wp-content/uploads/2020/03/4N-Online.jpg
END:VEVENT
BEGIN:VEVENT
DTSTART;TZID=Europe/London:20200401T093000
DTEND;TZID=Europe/London:20200401T110000
DTSTAMP:20260425T114748
CREATED:20200330T134910Z
LAST-MODIFIED:20200330T134910Z
UID:7690-1585733400-1585738800@dev.steeryourbusiness.com
SUMMARY:Network B2B - Yarm
DESCRIPTION:This is a virtual meeting.  Please check the website for details
URL:https://dev.steeryourbusiness.com/event/network-b2b-yarm/
ATTACH;FMTTYPE=image/png:https://dev.steeryourbusiness.com/wp-content/uploads/2020/03/Network-B2B.png
END:VEVENT
BEGIN:VEVENT
DTSTART;TZID=Europe/London:20200401T120000
DTEND;TZID=Europe/London:20200401T130000
DTSTAMP:20260425T114748
CREATED:20200330T154333Z
LAST-MODIFIED:20200330T154333Z
UID:7737-1585742400-1585746000@dev.steeryourbusiness.com
SUMMARY:Your Partnerships Cornwall
DESCRIPTION:This is an online event.  Please check the website for details
URL:https://dev.steeryourbusiness.com/event/your-partnerships-cornwall/
ATTACH;FMTTYPE=image/png:https://dev.steeryourbusiness.com/wp-content/uploads/2020/03/Your-Partnerships.png
END:VEVENT
BEGIN:VEVENT
DTSTART;TZID=Europe/London:20200401T121500
DTEND;TZID=Europe/London:20200401T140000
DTSTAMP:20260425T114748
CREATED:20200330T134312Z
LAST-MODIFIED:20200330T134312Z
UID:7684-1585743300-1585749600@dev.steeryourbusiness.com
SUMMARY:Network B2B - Newcastle
DESCRIPTION:This is a virtual event.  Please check the website for details
URL:https://dev.steeryourbusiness.com/event/network-b2b-newcastle/
ATTACH;FMTTYPE=image/png:https://dev.steeryourbusiness.com/wp-content/uploads/2020/03/Network-B2B.png
END:VEVENT
BEGIN:VEVENT
DTSTART;TZID=Europe/London:20200401T200000
DTEND;TZID=Europe/London:20200401T213000
DTSTAMP:20260425T114748
CREATED:20200330T162353Z
LAST-MODIFIED:20200330T162353Z
UID:7758-1585771200-1585776600@dev.steeryourbusiness.com
SUMMARY:Introbiz Global Webinar Masterclass with Peter Wilcock
DESCRIPTION:Join us for our second global webinar as we welcome Peter Wilcock.\nHe is the former COO of Virgin Media and now works as the business mentor to the Evans Property Group. Peter spent over a decade at cable giant Virgin Media\, and was the driving force behind the growth of cable TV and broadband across the UK.  Following his success with Virgin\, Peter then made the leap from corporate executive to entrepreneur – including investing in several businesses.
URL:https://dev.steeryourbusiness.com/event/introbiz-global-webinar-masterclass-with-peter-wilcock/
ATTACH;FMTTYPE=image/png:https://dev.steeryourbusiness.com/wp-content/uploads/2020/03/Introbiz.png
END:VEVENT
END:VCALENDAR