BEGIN:VCALENDAR
VERSION:2.0
PRODID:-//Steer Your Business - ECPv6.15.17.1//NONSGML v1.0//EN
CALSCALE:GREGORIAN
METHOD:PUBLISH
X-WR-CALNAME:Steer Your Business
X-ORIGINAL-URL:https://dev.steeryourbusiness.com
X-WR-CALDESC:Events for Steer Your Business
REFRESH-INTERVAL;VALUE=DURATION:PT1H
X-Robots-Tag:noindex
X-PUBLISHED-TTL:PT1H
BEGIN:VTIMEZONE
TZID:Europe/London
BEGIN:DAYLIGHT
TZOFFSETFROM:+0000
TZOFFSETTO:+0100
TZNAME:BST
DTSTART:20190331T010000
END:DAYLIGHT
BEGIN:STANDARD
TZOFFSETFROM:+0100
TZOFFSETTO:+0000
TZNAME:GMT
DTSTART:20191027T010000
END:STANDARD
BEGIN:DAYLIGHT
TZOFFSETFROM:+0000
TZOFFSETTO:+0100
TZNAME:BST
DTSTART:20200329T010000
END:DAYLIGHT
BEGIN:STANDARD
TZOFFSETFROM:+0100
TZOFFSETTO:+0000
TZNAME:GMT
DTSTART:20201025T010000
END:STANDARD
BEGIN:DAYLIGHT
TZOFFSETFROM:+0000
TZOFFSETTO:+0100
TZNAME:BST
DTSTART:20210328T010000
END:DAYLIGHT
BEGIN:STANDARD
TZOFFSETFROM:+0100
TZOFFSETTO:+0000
TZNAME:GMT
DTSTART:20211031T010000
END:STANDARD
END:VTIMEZONE
BEGIN:VEVENT
DTSTART;TZID=Europe/London:20200402T071500
DTEND;TZID=Europe/London:20200402T090000
DTSTAMP:20260425T114710
CREATED:20200330T135623Z
LAST-MODIFIED:20200330T135623Z
UID:7696-1585811700-1585818000@dev.steeryourbusiness.com
SUMMARY:Network B2B - York
DESCRIPTION:This is an online meeting.  Please check the website for details
URL:https://dev.steeryourbusiness.com/event/network-b2b-york-3/
ATTACH;FMTTYPE=image/png:https://dev.steeryourbusiness.com/wp-content/uploads/2020/03/Network-B2B.png
END:VEVENT
BEGIN:VEVENT
DTSTART;TZID=Europe/London:20200402T071500
DTEND;TZID=Europe/London:20200402T090000
DTSTAMP:20260425T114710
CREATED:20200330T135739Z
LAST-MODIFIED:20200330T135739Z
UID:7698-1585811700-1585818000@dev.steeryourbusiness.com
SUMMARY:Network B2B - Sunderland
DESCRIPTION:This is a virtual meeting.  Please check the website for details.
URL:https://dev.steeryourbusiness.com/event/network-b2b-sunderland/
ATTACH;FMTTYPE=image/png:https://dev.steeryourbusiness.com/wp-content/uploads/2020/03/Network-B2B.png
END:VEVENT
BEGIN:VEVENT
DTSTART;TZID=Europe/London:20200402T071500
DTEND;TZID=Europe/London:20200402T090000
DTSTAMP:20260425T114710
CREATED:20200330T135858Z
LAST-MODIFIED:20200330T135858Z
UID:7700-1585811700-1585818000@dev.steeryourbusiness.com
SUMMARY:Network B2B - North Tyneside
DESCRIPTION:This is a virtual meeting.  Please check the website for details
URL:https://dev.steeryourbusiness.com/event/network-b2b-north-tyneside/
ATTACH;FMTTYPE=image/png:https://dev.steeryourbusiness.com/wp-content/uploads/2020/03/Network-B2B.png
END:VEVENT
BEGIN:VEVENT
DTSTART;TZID=Europe/London:20200402T080000
DTEND;TZID=Europe/London:20200402T090000
DTSTAMP:20260425T114710
CREATED:20200330T154553Z
LAST-MODIFIED:20200330T154553Z
UID:7739-1585814400-1585818000@dev.steeryourbusiness.com
SUMMARY:Your Partnerships Cornwall
DESCRIPTION:This is an online event.  Please check the website for details
URL:https://dev.steeryourbusiness.com/event/your-partnerships-cornwall-2/
ATTACH;FMTTYPE=image/png:https://dev.steeryourbusiness.com/wp-content/uploads/2020/03/Your-Partnerships.png
END:VEVENT
BEGIN:VEVENT
DTSTART;TZID=Europe/London:20200402T080000
DTEND;TZID=Europe/London:20200402T193000
DTSTAMP:20260425T114710
CREATED:20200330T161049Z
LAST-MODIFIED:20200330T161049Z
UID:7752-1585814400-1585855800@dev.steeryourbusiness.com
SUMMARY:4 Networking
DESCRIPTION:Online networking up to 6 times a day!
URL:https://dev.steeryourbusiness.com/event/4-networking-2/
ATTACH;FMTTYPE=image/jpeg:https://dev.steeryourbusiness.com/wp-content/uploads/2020/03/4N-Online.jpg
END:VEVENT
BEGIN:VEVENT
DTSTART;TZID=Europe/London:20200402T080000
DTEND;TZID=Europe/London:20200402T193000
DTSTAMP:20260425T114710
CREATED:20200331T085118Z
LAST-MODIFIED:20200331T085118Z
UID:7766-1585814400-1585855800@dev.steeryourbusiness.com
SUMMARY:4 Networking
DESCRIPTION:Virtual networking up to 6 times a day!
URL:https://dev.steeryourbusiness.com/event/4-networking-5/
ATTACH;FMTTYPE=image/jpeg:https://dev.steeryourbusiness.com/wp-content/uploads/2020/03/4N-Online.jpg
END:VEVENT
END:VCALENDAR