BEGIN:VCALENDAR
VERSION:2.0
PRODID:-//Steer Your Business - ECPv6.15.17.1//NONSGML v1.0//EN
CALSCALE:GREGORIAN
METHOD:PUBLISH
X-WR-CALNAME:Steer Your Business
X-ORIGINAL-URL:https://dev.steeryourbusiness.com
X-WR-CALDESC:Events for Steer Your Business
REFRESH-INTERVAL;VALUE=DURATION:PT1H
X-Robots-Tag:noindex
X-PUBLISHED-TTL:PT1H
BEGIN:VTIMEZONE
TZID:Europe/London
BEGIN:DAYLIGHT
TZOFFSETFROM:+0000
TZOFFSETTO:+0100
TZNAME:BST
DTSTART:20190331T010000
END:DAYLIGHT
BEGIN:STANDARD
TZOFFSETFROM:+0100
TZOFFSETTO:+0000
TZNAME:GMT
DTSTART:20191027T010000
END:STANDARD
BEGIN:DAYLIGHT
TZOFFSETFROM:+0000
TZOFFSETTO:+0100
TZNAME:BST
DTSTART:20200329T010000
END:DAYLIGHT
BEGIN:STANDARD
TZOFFSETFROM:+0100
TZOFFSETTO:+0000
TZNAME:GMT
DTSTART:20201025T010000
END:STANDARD
BEGIN:DAYLIGHT
TZOFFSETFROM:+0000
TZOFFSETTO:+0100
TZNAME:BST
DTSTART:20210328T010000
END:DAYLIGHT
BEGIN:STANDARD
TZOFFSETFROM:+0100
TZOFFSETTO:+0000
TZNAME:GMT
DTSTART:20211031T010000
END:STANDARD
END:VTIMEZONE
BEGIN:VEVENT
DTSTART;TZID=Europe/London:20200408T160000
DTEND;TZID=Europe/London:20200408T180000
DTSTAMP:20260425T114710
CREATED:20200331T084655Z
LAST-MODIFIED:20200331T084655Z
UID:7762-1586361600-1586368800@dev.steeryourbusiness.com
SUMMARY:Introbiz Global Webinar Masterclass With Marshall Hayner
DESCRIPTION:Join us for another weekly global webinar as we welcome bitcoin millionaire\, Marshall Hayner. The webinar will take place on Wednesday\, 8th April from 4-6pm. \nMarshall Hayner and Eric Finman\, the leaders of the crypto payment app Metal Pay\, are launching an investment fund. The $1 million fund\, dubbed Metal VC\, will focus on micro and angel investments\, primarily in early-stage companies that are involved in decentralized finance and banking. According to Hayner\, the CEO of the Metal Pay app\, the Metal VC fund will enable the startup to align with partners as it expands globally.
URL:https://dev.steeryourbusiness.com/event/introbiz-global-webinar-masterclass-with-marshall-hayner/
END:VEVENT
END:VCALENDAR