BEGIN:VCALENDAR
VERSION:2.0
PRODID:-//Steer Your Business - ECPv6.15.17.1//NONSGML v1.0//EN
CALSCALE:GREGORIAN
METHOD:PUBLISH
X-WR-CALNAME:Steer Your Business
X-ORIGINAL-URL:https://dev.steeryourbusiness.com
X-WR-CALDESC:Events for Steer Your Business
REFRESH-INTERVAL;VALUE=DURATION:PT1H
X-Robots-Tag:noindex
X-PUBLISHED-TTL:PT1H
BEGIN:VTIMEZONE
TZID:Europe/London
BEGIN:DAYLIGHT
TZOFFSETFROM:+0000
TZOFFSETTO:+0100
TZNAME:BST
DTSTART:20190331T010000
END:DAYLIGHT
BEGIN:STANDARD
TZOFFSETFROM:+0100
TZOFFSETTO:+0000
TZNAME:GMT
DTSTART:20191027T010000
END:STANDARD
BEGIN:DAYLIGHT
TZOFFSETFROM:+0000
TZOFFSETTO:+0100
TZNAME:BST
DTSTART:20200329T010000
END:DAYLIGHT
BEGIN:STANDARD
TZOFFSETFROM:+0100
TZOFFSETTO:+0000
TZNAME:GMT
DTSTART:20201025T010000
END:STANDARD
BEGIN:DAYLIGHT
TZOFFSETFROM:+0000
TZOFFSETTO:+0100
TZNAME:BST
DTSTART:20210328T010000
END:DAYLIGHT
BEGIN:STANDARD
TZOFFSETFROM:+0100
TZOFFSETTO:+0000
TZNAME:GMT
DTSTART:20211031T010000
END:STANDARD
END:VTIMEZONE
BEGIN:VEVENT
DTSTART;TZID=Europe/London:20200414T103000
DTEND;TZID=Europe/London:20200414T123000
DTSTAMP:20260425T114748
CREATED:20200330T150022Z
LAST-MODIFIED:20200414T092919Z
UID:7731-1586860200-1586867400@dev.steeryourbusiness.com
SUMMARY:Acorn Networking Mansfield
DESCRIPTION:This is a virtual event.  Please check the website for details
URL:https://dev.steeryourbusiness.com/event/acorn-networking-mansfield/
ATTACH;FMTTYPE=image/png:https://dev.steeryourbusiness.com/wp-content/uploads/2020/03/Acorn-Net-Logo2.png
END:VEVENT
END:VCALENDAR