BEGIN:VCALENDAR
VERSION:2.0
PRODID:-//Steer Your Business - ECPv6.15.17.1//NONSGML v1.0//EN
CALSCALE:GREGORIAN
METHOD:PUBLISH
X-WR-CALNAME:Steer Your Business
X-ORIGINAL-URL:https://dev.steeryourbusiness.com
X-WR-CALDESC:Events for Steer Your Business
REFRESH-INTERVAL;VALUE=DURATION:PT1H
X-Robots-Tag:noindex
X-PUBLISHED-TTL:PT1H
BEGIN:VTIMEZONE
TZID:Europe/London
BEGIN:DAYLIGHT
TZOFFSETFROM:+0000
TZOFFSETTO:+0100
TZNAME:BST
DTSTART:20190331T010000
END:DAYLIGHT
BEGIN:STANDARD
TZOFFSETFROM:+0100
TZOFFSETTO:+0000
TZNAME:GMT
DTSTART:20191027T010000
END:STANDARD
BEGIN:DAYLIGHT
TZOFFSETFROM:+0000
TZOFFSETTO:+0100
TZNAME:BST
DTSTART:20200329T010000
END:DAYLIGHT
BEGIN:STANDARD
TZOFFSETFROM:+0100
TZOFFSETTO:+0000
TZNAME:GMT
DTSTART:20201025T010000
END:STANDARD
BEGIN:DAYLIGHT
TZOFFSETFROM:+0000
TZOFFSETTO:+0100
TZNAME:BST
DTSTART:20210328T010000
END:DAYLIGHT
BEGIN:STANDARD
TZOFFSETFROM:+0100
TZOFFSETTO:+0000
TZNAME:GMT
DTSTART:20211031T010000
END:STANDARD
END:VTIMEZONE
BEGIN:VEVENT
DTSTART;TZID=Europe/London:20200416T100000
DTEND;TZID=Europe/London:20200416T113000
DTSTAMP:20260425T114747
CREATED:20200414T091607Z
LAST-MODIFIED:20200414T091607Z
UID:7845-1587031200-1587036600@dev.steeryourbusiness.com
SUMMARY:Simply Networking
DESCRIPTION:Meetings will start at 10am and go on until 11.30am with each person given the chance to tell the rest of the group about their business and what they are looking for.\nAny updates about your industry and questions you may have for other guests within the meeting. \nUsing Zoom for business \, you will need to download and join zoom in order to join the meeting
URL:https://dev.steeryourbusiness.com/event/simply-networking/
END:VEVENT
BEGIN:VEVENT
DTSTART;TZID=Europe/London:20200416T110000
DTEND;TZID=Europe/London:20200416T120000
DTSTAMP:20260425T114747
CREATED:20200410T131211Z
LAST-MODIFIED:20200414T095423Z
UID:7832-1587034800-1587038400@dev.steeryourbusiness.com
SUMMARY:Steer Your Business Virtual Networking
DESCRIPTION:
URL:https://dev.steeryourbusiness.com/event/steer-your-business-virtual-networking/
ATTACH;FMTTYPE=image/svg+xml:https://dev.steeryourbusiness.com/wp-content/uploads/2019/11/steer-your-business.svg
ORGANIZER;CN="Steer Your Business":MAILTO:Sally@steeryourbusiness.com
END:VEVENT
BEGIN:VEVENT
DTSTART;TZID=Europe/London:20200416T180000
DTEND;TZID=Europe/London:20200416T200000
DTSTAMP:20260425T114747
CREATED:20200315T130417Z
LAST-MODIFIED:20200414T093137Z
UID:7616-1587060000-1587067200@dev.steeryourbusiness.com
SUMMARY:Acorn Networking Nottingham City Centre
DESCRIPTION:This is a virtual event.  Please check the website for more details
URL:https://dev.steeryourbusiness.com/event/acorn-networking-nottingham-city-centre/
ATTACH;FMTTYPE=image/png:https://dev.steeryourbusiness.com/wp-content/uploads/2020/03/Acorn-Net-Logo2.png
END:VEVENT
END:VCALENDAR