BEGIN:VCALENDAR
VERSION:2.0
PRODID:-//Steer Your Business - ECPv6.15.17.1//NONSGML v1.0//EN
CALSCALE:GREGORIAN
METHOD:PUBLISH
X-WR-CALNAME:Steer Your Business
X-ORIGINAL-URL:https://dev.steeryourbusiness.com
X-WR-CALDESC:Events for Steer Your Business
REFRESH-INTERVAL;VALUE=DURATION:PT1H
X-Robots-Tag:noindex
X-PUBLISHED-TTL:PT1H
BEGIN:VTIMEZONE
TZID:Europe/London
BEGIN:DAYLIGHT
TZOFFSETFROM:+0000
TZOFFSETTO:+0100
TZNAME:BST
DTSTART:20190331T010000
END:DAYLIGHT
BEGIN:STANDARD
TZOFFSETFROM:+0100
TZOFFSETTO:+0000
TZNAME:GMT
DTSTART:20191027T010000
END:STANDARD
BEGIN:DAYLIGHT
TZOFFSETFROM:+0000
TZOFFSETTO:+0100
TZNAME:BST
DTSTART:20200329T010000
END:DAYLIGHT
BEGIN:STANDARD
TZOFFSETFROM:+0100
TZOFFSETTO:+0000
TZNAME:GMT
DTSTART:20201025T010000
END:STANDARD
BEGIN:DAYLIGHT
TZOFFSETFROM:+0000
TZOFFSETTO:+0100
TZNAME:BST
DTSTART:20210328T010000
END:DAYLIGHT
BEGIN:STANDARD
TZOFFSETFROM:+0100
TZOFFSETTO:+0000
TZNAME:GMT
DTSTART:20211031T010000
END:STANDARD
END:VTIMEZONE
BEGIN:VEVENT
DTSTART;TZID=Europe/London:20200423T071500
DTEND;TZID=Europe/London:20200423T090000
DTSTAMP:20260425T114747
CREATED:20200330T140022Z
LAST-MODIFIED:20200414T140226Z
UID:7702-1587626100-1587632400@dev.steeryourbusiness.com
SUMMARY:Network B2B - Beverley
DESCRIPTION:This is a virtual event.  Please check the website for details
URL:https://dev.steeryourbusiness.com/event/network-b2b-beverley/
ATTACH;FMTTYPE=image/png:https://dev.steeryourbusiness.com/wp-content/uploads/2020/03/Network-B2B.png
END:VEVENT
BEGIN:VEVENT
DTSTART;TZID=Europe/London:20200423T071500
DTEND;TZID=Europe/London:20200423T090000
DTSTAMP:20260425T114747
CREATED:20200330T140138Z
LAST-MODIFIED:20200414T135830Z
UID:7704-1587626100-1587632400@dev.steeryourbusiness.com
SUMMARY:Network B2B - Huddersfield
DESCRIPTION:This is a virtual meeting.  Please check the website for details
URL:https://dev.steeryourbusiness.com/event/network-b2b-huddersfield/
ATTACH;FMTTYPE=image/png:https://dev.steeryourbusiness.com/wp-content/uploads/2020/03/Network-B2B.png
END:VEVENT
BEGIN:VEVENT
DTSTART;TZID=Europe/London:20200423T073000
DTEND;TZID=Europe/London:20200423T090000
DTSTAMP:20260425T114747
CREATED:20200330T140404Z
LAST-MODIFIED:20200414T135752Z
UID:7708-1587627000-1587632400@dev.steeryourbusiness.com
SUMMARY:Network B2B - Hull
DESCRIPTION:This is a virtual meeting.  Please check the website for details
URL:https://dev.steeryourbusiness.com/event/network-b2b-hull/
ATTACH;FMTTYPE=image/png:https://dev.steeryourbusiness.com/wp-content/uploads/2020/03/Network-B2B.png
END:VEVENT
BEGIN:VEVENT
DTSTART;TZID=Europe/London:20200423T080000
DTEND;TZID=Europe/London:20200423T090000
DTSTAMP:20260425T114747
CREATED:20200330T140253Z
LAST-MODIFIED:20200414T140136Z
UID:7706-1587628800-1587632400@dev.steeryourbusiness.com
SUMMARY:Network B2B - Harrogate
DESCRIPTION:This is a virtual event.  Please check the website for details
URL:https://dev.steeryourbusiness.com/event/network-b2b-harrogate/
ATTACH;FMTTYPE=image/png:https://dev.steeryourbusiness.com/wp-content/uploads/2020/03/Network-B2B.png
END:VEVENT
BEGIN:VEVENT
DTSTART;TZID=Europe/London:20200423T091500
DTEND;TZID=Europe/London:20200423T110000
DTSTAMP:20260425T114747
CREATED:20200330T140530Z
LAST-MODIFIED:20200414T135646Z
UID:7710-1587633300-1587639600@dev.steeryourbusiness.com
SUMMARY:Network B2B - Newcastle
DESCRIPTION:This is a virtual meeting.  Please check the website for details
URL:https://dev.steeryourbusiness.com/event/network-b2b-newcastle-2/
ATTACH;FMTTYPE=image/png:https://dev.steeryourbusiness.com/wp-content/uploads/2020/03/Network-B2B.png
END:VEVENT
BEGIN:VEVENT
DTSTART;TZID=Europe/London:20200423T103000
DTEND;TZID=Europe/London:20200423T123000
DTSTAMP:20260425T114747
CREATED:20200315T130559Z
LAST-MODIFIED:20200414T093054Z
UID:7618-1587637800-1587645000@dev.steeryourbusiness.com
SUMMARY:Acorn Networking Quorn
DESCRIPTION:This is a virtual event.  Please check the website for more details
URL:https://dev.steeryourbusiness.com/event/acorn-networking-quorn/
ATTACH;FMTTYPE=image/png:https://dev.steeryourbusiness.com/wp-content/uploads/2020/03/Acorn-Net-Logo2.png
END:VEVENT
END:VCALENDAR