BEGIN:VCALENDAR
VERSION:2.0
PRODID:-//Steer Your Business - ECPv6.15.17.1//NONSGML v1.0//EN
CALSCALE:GREGORIAN
METHOD:PUBLISH
X-WR-CALNAME:Steer Your Business
X-ORIGINAL-URL:https://dev.steeryourbusiness.com
X-WR-CALDESC:Events for Steer Your Business
REFRESH-INTERVAL;VALUE=DURATION:PT1H
X-Robots-Tag:noindex
X-PUBLISHED-TTL:PT1H
BEGIN:VTIMEZONE
TZID:Europe/London
BEGIN:DAYLIGHT
TZOFFSETFROM:+0000
TZOFFSETTO:+0100
TZNAME:BST
DTSTART:20210328T010000
END:DAYLIGHT
BEGIN:STANDARD
TZOFFSETFROM:+0100
TZOFFSETTO:+0000
TZNAME:GMT
DTSTART:20211031T010000
END:STANDARD
BEGIN:DAYLIGHT
TZOFFSETFROM:+0000
TZOFFSETTO:+0100
TZNAME:BST
DTSTART:20220327T010000
END:DAYLIGHT
BEGIN:STANDARD
TZOFFSETFROM:+0100
TZOFFSETTO:+0000
TZNAME:GMT
DTSTART:20221030T010000
END:STANDARD
BEGIN:DAYLIGHT
TZOFFSETFROM:+0000
TZOFFSETTO:+0100
TZNAME:BST
DTSTART:20230326T010000
END:DAYLIGHT
BEGIN:STANDARD
TZOFFSETFROM:+0100
TZOFFSETTO:+0000
TZNAME:GMT
DTSTART:20231029T010000
END:STANDARD
END:VTIMEZONE
BEGIN:VEVENT
DTSTART;TZID=Europe/London:20220310T100000
DTEND;TZID=Europe/London:20220310T170000
DTSTAMP:20260422T163016
CREATED:20220109T113412Z
LAST-MODIFIED:20220109T113412Z
UID:8505-1646906400-1646931600@dev.steeryourbusiness.com
SUMMARY:Business Revival Series
DESCRIPTION:  \nA unique LIVE experience where you can watch the most influential\, thought leading speakers deliver world class Keynote seminars\, meet the world’s top suppliers & industry leaders\, covering every aspect of business. \nAfter 18 months of being limited to virtual experiences and electronic communications\, it’s time to come and rediscover the true value of face to face meetings and networking! \nThis is THE one stop shop on the way to YOUR business revival!
URL:https://dev.steeryourbusiness.com/event/business-revival-series-2/
ATTACH;FMTTYPE=image/jpeg:https://dev.steeryourbusiness.com/wp-content/uploads/2022/01/HP-BRS-AD.jpg
END:VEVENT
END:VCALENDAR