BEGIN:VCALENDAR
VERSION:2.0
PRODID:-//Steer Your Business - ECPv6.15.17.1//NONSGML v1.0//EN
CALSCALE:GREGORIAN
METHOD:PUBLISH
X-WR-CALNAME:Steer Your Business
X-ORIGINAL-URL:https://dev.steeryourbusiness.com
X-WR-CALDESC:Events for Steer Your Business
REFRESH-INTERVAL;VALUE=DURATION:PT1H
X-Robots-Tag:noindex
X-PUBLISHED-TTL:PT1H
BEGIN:VTIMEZONE
TZID:Europe/London
BEGIN:DAYLIGHT
TZOFFSETFROM:+0000
TZOFFSETTO:+0100
TZNAME:BST
DTSTART:20210328T010000
END:DAYLIGHT
BEGIN:STANDARD
TZOFFSETFROM:+0100
TZOFFSETTO:+0000
TZNAME:GMT
DTSTART:20211031T010000
END:STANDARD
BEGIN:DAYLIGHT
TZOFFSETFROM:+0000
TZOFFSETTO:+0100
TZNAME:BST
DTSTART:20220327T010000
END:DAYLIGHT
BEGIN:STANDARD
TZOFFSETFROM:+0100
TZOFFSETTO:+0000
TZNAME:GMT
DTSTART:20221030T010000
END:STANDARD
BEGIN:DAYLIGHT
TZOFFSETFROM:+0000
TZOFFSETTO:+0100
TZNAME:BST
DTSTART:20230326T010000
END:DAYLIGHT
BEGIN:STANDARD
TZOFFSETFROM:+0100
TZOFFSETTO:+0000
TZNAME:GMT
DTSTART:20231029T010000
END:STANDARD
END:VTIMEZONE
BEGIN:VEVENT
DTSTART;TZID=Europe/London:20220912T150000
DTEND;TZID=Europe/London:20220912T170000
DTSTAMP:20260422T081551
CREATED:20220808T142215Z
LAST-MODIFIED:20220808T144509Z
UID:8660-1662994800-1663002000@dev.steeryourbusiness.com
SUMMARY:Networking In Canterbury With A Speaker on Scaling Your Business
DESCRIPTION:A networking event in Canterbury with a focus on scaling your business. \nWe will have a guest speaker\, Jim Jordan from The Scale Business\, who will talk to us about adding value\, particularly in a recession\, so that our businesses are in a better place when we come out the other side. \nJoin us for this FREE event and network with like-minded businesses in Canterbury \nhttps://www.eventbrite.co.uk/e/business-networking-in-canterbury-with-a-speaker-on-scaling-your-business-tickets-398926328387
URL:https://dev.steeryourbusiness.com/event/networking-in-canterbury-with-a-speaker-on-scaling-your-business/
END:VEVENT
END:VCALENDAR