BEGIN:VCALENDAR
VERSION:2.0
PRODID:-//Steer Your Business - ECPv6.15.17.1//NONSGML v1.0//EN
CALSCALE:GREGORIAN
METHOD:PUBLISH
X-WR-CALNAME:Steer Your Business
X-ORIGINAL-URL:https://dev.steeryourbusiness.com
X-WR-CALDESC:Events for Steer Your Business
REFRESH-INTERVAL;VALUE=DURATION:PT1H
X-Robots-Tag:noindex
X-PUBLISHED-TTL:PT1H
BEGIN:VTIMEZONE
TZID:Europe/London
BEGIN:DAYLIGHT
TZOFFSETFROM:+0000
TZOFFSETTO:+0100
TZNAME:BST
DTSTART:20220327T010000
END:DAYLIGHT
BEGIN:STANDARD
TZOFFSETFROM:+0100
TZOFFSETTO:+0000
TZNAME:GMT
DTSTART:20221030T010000
END:STANDARD
BEGIN:DAYLIGHT
TZOFFSETFROM:+0000
TZOFFSETTO:+0100
TZNAME:BST
DTSTART:20230326T010000
END:DAYLIGHT
BEGIN:STANDARD
TZOFFSETFROM:+0100
TZOFFSETTO:+0000
TZNAME:GMT
DTSTART:20231029T010000
END:STANDARD
BEGIN:DAYLIGHT
TZOFFSETFROM:+0000
TZOFFSETTO:+0100
TZNAME:BST
DTSTART:20240331T010000
END:DAYLIGHT
BEGIN:STANDARD
TZOFFSETFROM:+0100
TZOFFSETTO:+0000
TZNAME:GMT
DTSTART:20241027T010000
END:STANDARD
END:VTIMEZONE
BEGIN:VEVENT
DTSTART;TZID=Europe/London:20230223T120000
DTEND;TZID=Europe/London:20230223T140000
DTSTAMP:20260422T004902
CREATED:20230202T091342Z
LAST-MODIFIED:20230202T091616Z
UID:8888-1677153600-1677160800@dev.steeryourbusiness.com
SUMMARY:Networking Lunch at Stubbs in Ashford
DESCRIPTION:A networking lunch to give you time to chat to like-minded businesses over a fabulous lunch. \nWhat more could you ask for? \nGetting to know people rather than selling at them is what works and a networking lunch is the idea place to do that. \nWe’d love you to join us \nBook your place here \nPlaces are limited to ensure everyone gets the most from the event
URL:https://dev.steeryourbusiness.com/event/networking-lunch-at-stubbs-in-ashford/
ORGANIZER;CN="Steer Your Business":MAILTO:Sally@steeryourbusiness.com
END:VEVENT
END:VCALENDAR