BEGIN:VCALENDAR
VERSION:2.0
PRODID:-//Steer Your Business - ECPv6.15.17.1//NONSGML v1.0//EN
CALSCALE:GREGORIAN
METHOD:PUBLISH
X-WR-CALNAME:Steer Your Business
X-ORIGINAL-URL:https://dev.steeryourbusiness.com
X-WR-CALDESC:Events for Steer Your Business
REFRESH-INTERVAL;VALUE=DURATION:PT1H
X-Robots-Tag:noindex
X-PUBLISHED-TTL:PT1H
BEGIN:VTIMEZONE
TZID:Europe/London
BEGIN:DAYLIGHT
TZOFFSETFROM:+0000
TZOFFSETTO:+0100
TZNAME:BST
DTSTART:20230326T010000
END:DAYLIGHT
BEGIN:STANDARD
TZOFFSETFROM:+0100
TZOFFSETTO:+0000
TZNAME:GMT
DTSTART:20231029T010000
END:STANDARD
BEGIN:DAYLIGHT
TZOFFSETFROM:+0000
TZOFFSETTO:+0100
TZNAME:BST
DTSTART:20240331T010000
END:DAYLIGHT
BEGIN:STANDARD
TZOFFSETFROM:+0100
TZOFFSETTO:+0000
TZNAME:GMT
DTSTART:20241027T010000
END:STANDARD
BEGIN:DAYLIGHT
TZOFFSETFROM:+0000
TZOFFSETTO:+0100
TZNAME:BST
DTSTART:20250330T010000
END:DAYLIGHT
BEGIN:STANDARD
TZOFFSETFROM:+0100
TZOFFSETTO:+0000
TZNAME:GMT
DTSTART:20251026T010000
END:STANDARD
END:VTIMEZONE
BEGIN:VEVENT
DTSTART;TZID=Europe/London:20240909T130000
DTEND;TZID=Europe/London:20240909T150000
DTSTAMP:20260420T192425
CREATED:20240901T182650Z
LAST-MODIFIED:20240901T183753Z
UID:9768-1725886800-1725894000@dev.steeryourbusiness.com
SUMMARY:Masterclass:  Meet the Founder & Business Tour
DESCRIPTION:Masterclass: Meet the founder & business tour with Chris Bichard\, CEO of SEC Works\n\n\n\n\n\n\n\n\n\n\nVisit a Kent business\, get inspired & learn about innovative marketing! \n\n\n\n\n\n\n\n\n\n\nChris Bichard\, CEO of SEC Works tells his story – from moving to the UK at 24 with no connections to being the CEO of a bespoke vehicle conversion & signage company\, working with leading companies like Google\, Samsung & the 2012 London Olympics. \n\n\n\n\n\n\n\n\n\n\nEvent details: \n\nMeet at South East Coachworks\, Faversham at 12.50pm\nTour of the coachworks\, seeing behind the scenes of the business.\nRefreshments and Q&A with founder Chris\, a chance to hear his story & ask questions.\n\n\n\n\n\n\n\n\n\n\n\nThis event is free for all Kent Foundation mentees – please register below \n\n\n\n\n\n\n\n\n\n\nMonday 9th September – 1pm-3pm \n@ SEC Works Group\, The Old Coach Station\, 38 Preston Street\, Kent\, ME13 8PE \n  \nThe venue is accessible by Train (Faversham) and car parking is available at Queens Hall or Faversham Train Station.
URL:https://dev.steeryourbusiness.com/event/masterclass-meet-the-founder-business-tour/
LOCATION:SEC Works Group\, The Old Coach Station\, 38 Preston Stree\, Faversham\, Kent\, ME13 8PE
ATTACH;FMTTYPE=image/jpeg:https://dev.steeryourbusiness.com/wp-content/uploads/2024/09/The-Kent-Foundation-logo.jpg
ORGANIZER;CN="The Kent Foundation":MAILTO:hello@kentfoundation.org
END:VEVENT
END:VCALENDAR