BEGIN:VCALENDAR
VERSION:2.0
PRODID:-//Steer Your Business - ECPv6.15.17.1//NONSGML v1.0//EN
CALSCALE:GREGORIAN
METHOD:PUBLISH
X-WR-CALNAME:Steer Your Business
X-ORIGINAL-URL:https://dev.steeryourbusiness.com
X-WR-CALDESC:Events for Steer Your Business
REFRESH-INTERVAL;VALUE=DURATION:PT1H
X-Robots-Tag:noindex
X-PUBLISHED-TTL:PT1H
BEGIN:VTIMEZONE
TZID:Europe/London
BEGIN:DAYLIGHT
TZOFFSETFROM:+0000
TZOFFSETTO:+0100
TZNAME:BST
DTSTART:20230326T010000
END:DAYLIGHT
BEGIN:STANDARD
TZOFFSETFROM:+0100
TZOFFSETTO:+0000
TZNAME:GMT
DTSTART:20231029T010000
END:STANDARD
BEGIN:DAYLIGHT
TZOFFSETFROM:+0000
TZOFFSETTO:+0100
TZNAME:BST
DTSTART:20240331T010000
END:DAYLIGHT
BEGIN:STANDARD
TZOFFSETFROM:+0100
TZOFFSETTO:+0000
TZNAME:GMT
DTSTART:20241027T010000
END:STANDARD
BEGIN:DAYLIGHT
TZOFFSETFROM:+0000
TZOFFSETTO:+0100
TZNAME:BST
DTSTART:20250330T010000
END:DAYLIGHT
BEGIN:STANDARD
TZOFFSETFROM:+0100
TZOFFSETTO:+0000
TZNAME:GMT
DTSTART:20251026T010000
END:STANDARD
END:VTIMEZONE
BEGIN:VEVENT
DTSTART;TZID=Europe/London:20241211T170000
DTEND;TZID=Europe/London:20241211T190000
DTSTAMP:20260420T144025
CREATED:20241019T114356Z
LAST-MODIFIED:20241019T114356Z
UID:9796-1733936400-1733943600@dev.steeryourbusiness.com
SUMMARY:Christmas Social
DESCRIPTION:We are excited to invite you to our Christmas Social. Join us for an evening of games & festive celebrations to end 2024 🎉 \nEvent Details: \nDate: Wednesday 11th December\nTime: 5pm-7pm\nVenue: The Boardroom\nAddress: Harbour Arm\, Folkestone\, CT20 1QH \nA festive opportunity for mentors\, mentees and supporters to gather – play darts\, drinks\, nibbles and prizes for the worst (best) Christmas jumper – there is a small charge of £10 to cover a welcome festive drink and a group game of either Darts or Shuffleboard. \nWe will also be sharing details of our 40th Anniversary party and much more for 2025. Places are limited so please book early to avoid disappointment.
URL:https://dev.steeryourbusiness.com/event/christmas-social/
LOCATION:The Boardroom\, Folkestone\, CT20 1QH
ATTACH;FMTTYPE=image/jpeg:https://dev.steeryourbusiness.com/wp-content/uploads/2024/09/The-Kent-Foundation-logo.jpg
ORGANIZER;CN="The Kent Foundation":MAILTO:hello@kentfoundation.org
END:VEVENT
END:VCALENDAR