BEGIN:VCALENDAR
VERSION:2.0
PRODID:-//Steer Your Business - ECPv6.15.17.1//NONSGML v1.0//EN
CALSCALE:GREGORIAN
METHOD:PUBLISH
X-WR-CALNAME:Steer Your Business
X-ORIGINAL-URL:https://dev.steeryourbusiness.com
X-WR-CALDESC:Events for Steer Your Business
REFRESH-INTERVAL;VALUE=DURATION:PT1H
X-Robots-Tag:noindex
X-PUBLISHED-TTL:PT1H
BEGIN:VTIMEZONE
TZID:Europe/London
BEGIN:DAYLIGHT
TZOFFSETFROM:+0000
TZOFFSETTO:+0100
TZNAME:BST
DTSTART:20240331T010000
END:DAYLIGHT
BEGIN:STANDARD
TZOFFSETFROM:+0100
TZOFFSETTO:+0000
TZNAME:GMT
DTSTART:20241027T010000
END:STANDARD
BEGIN:DAYLIGHT
TZOFFSETFROM:+0000
TZOFFSETTO:+0100
TZNAME:BST
DTSTART:20250330T010000
END:DAYLIGHT
BEGIN:STANDARD
TZOFFSETFROM:+0100
TZOFFSETTO:+0000
TZNAME:GMT
DTSTART:20251026T010000
END:STANDARD
BEGIN:DAYLIGHT
TZOFFSETFROM:+0000
TZOFFSETTO:+0100
TZNAME:BST
DTSTART:20260329T010000
END:DAYLIGHT
BEGIN:STANDARD
TZOFFSETFROM:+0100
TZOFFSETTO:+0000
TZNAME:GMT
DTSTART:20261025T010000
END:STANDARD
END:VTIMEZONE
BEGIN:VEVENT
DTSTART;TZID=Europe/London:20250313T090000
DTEND;TZID=Europe/London:20250313T150000
DTSTAMP:20260420T114147
CREATED:20250209T111418Z
LAST-MODIFIED:20250209T111439Z
UID:9850-1741856400-1741878000@dev.steeryourbusiness.com
SUMMARY:Kent Business Show
DESCRIPTION:Join us for the largest free Business-to-Business Event in Kentpacked with practical advice for your business.You’ll find expert talks and discussions on topics like the economy sustainability\, growth\, and planning for the future. Discover tips to improve how you work\, connect with other business leaders\, and learn how to stay ahead in a competitive market.Whether you want to grow your business\, go green\, or tackle future challenges\, this event is your chance to find new ideas and build valuable connections. \nMore information here
URL:https://dev.steeryourbusiness.com/event/kent-business-show/
LOCATION:Ashford International Hotel\, Ashford\, Kent\, TN24 8UXU\, United Kingdom
ORGANIZER;CN="Best Business Events":MAILTO:Info@bestbusinessevents.co.uk
END:VEVENT
END:VCALENDAR