BEGIN:VCALENDAR
VERSION:2.0
PRODID:-//Steer Your Business - ECPv6.15.17.1//NONSGML v1.0//EN
CALSCALE:GREGORIAN
METHOD:PUBLISH
X-WR-CALNAME:Steer Your Business
X-ORIGINAL-URL:https://dev.steeryourbusiness.com
X-WR-CALDESC:Events for Steer Your Business
REFRESH-INTERVAL;VALUE=DURATION:PT1H
X-Robots-Tag:noindex
X-PUBLISHED-TTL:PT1H
BEGIN:VTIMEZONE
TZID:Europe/London
BEGIN:DAYLIGHT
TZOFFSETFROM:+0000
TZOFFSETTO:+0100
TZNAME:BST
DTSTART:20240331T010000
END:DAYLIGHT
BEGIN:STANDARD
TZOFFSETFROM:+0100
TZOFFSETTO:+0000
TZNAME:GMT
DTSTART:20241027T010000
END:STANDARD
BEGIN:DAYLIGHT
TZOFFSETFROM:+0000
TZOFFSETTO:+0100
TZNAME:BST
DTSTART:20250330T010000
END:DAYLIGHT
BEGIN:STANDARD
TZOFFSETFROM:+0100
TZOFFSETTO:+0000
TZNAME:GMT
DTSTART:20251026T010000
END:STANDARD
BEGIN:DAYLIGHT
TZOFFSETFROM:+0000
TZOFFSETTO:+0100
TZNAME:BST
DTSTART:20260329T010000
END:DAYLIGHT
BEGIN:STANDARD
TZOFFSETFROM:+0100
TZOFFSETTO:+0000
TZNAME:GMT
DTSTART:20261025T010000
END:STANDARD
END:VTIMEZONE
BEGIN:VEVENT
DTSTART;TZID=Europe/London:20250328T130000
DTEND;TZID=Europe/London:20250328T140000
DTSTAMP:20260420T100811
CREATED:20241122T114207Z
LAST-MODIFIED:20250323T183131Z
UID:9820-1743166800-1743170400@dev.steeryourbusiness.com
SUMMARY:Steer Your Business Networking Lunch
DESCRIPTION:Welcome to the Business Networking Lunch event! Join us on Friday 28 March 2025 at the Curious Brewery\, Ashford for an afternoon of networking and delicious food. \nThis is a great opportunity to meet like-minded individuals\, make new connections\, and grow your professional network. Whether you’re a seasoned entrepreneur or just starting out\, this event is perfect for anyone looking to expand their business contacts. \nIncludes lunch and a complimentary printed copy of the latest Steer Your Business magazine \nDon’t miss out on this chance to mingle\, exchange ideas\, and build relationships with other professionals. \nSee you there!
URL:https://dev.steeryourbusiness.com/event/steer-your-business-networking-lunch-2/
LOCATION:Curious Brewery\, Victoria Road\, Ashford\, United Kingdom
ORGANIZER;CN="Steer Your Business":MAILTO:Sally@steeryourbusiness.com
END:VEVENT
END:VCALENDAR