BEGIN:VCALENDAR
VERSION:2.0
PRODID:-//Steer Your Business - ECPv6.15.17.1//NONSGML v1.0//EN
CALSCALE:GREGORIAN
METHOD:PUBLISH
X-WR-CALNAME:Steer Your Business
X-ORIGINAL-URL:https://dev.steeryourbusiness.com
X-WR-CALDESC:Events for Steer Your Business
REFRESH-INTERVAL;VALUE=DURATION:PT1H
X-Robots-Tag:noindex
X-PUBLISHED-TTL:PT1H
BEGIN:VTIMEZONE
TZID:Europe/London
BEGIN:DAYLIGHT
TZOFFSETFROM:+0000
TZOFFSETTO:+0100
TZNAME:BST
DTSTART:20240331T010000
END:DAYLIGHT
BEGIN:STANDARD
TZOFFSETFROM:+0100
TZOFFSETTO:+0000
TZNAME:GMT
DTSTART:20241027T010000
END:STANDARD
BEGIN:DAYLIGHT
TZOFFSETFROM:+0000
TZOFFSETTO:+0100
TZNAME:BST
DTSTART:20250330T010000
END:DAYLIGHT
BEGIN:STANDARD
TZOFFSETFROM:+0100
TZOFFSETTO:+0000
TZNAME:GMT
DTSTART:20251026T010000
END:STANDARD
BEGIN:DAYLIGHT
TZOFFSETFROM:+0000
TZOFFSETTO:+0100
TZNAME:BST
DTSTART:20260329T010000
END:DAYLIGHT
BEGIN:STANDARD
TZOFFSETFROM:+0100
TZOFFSETTO:+0000
TZNAME:GMT
DTSTART:20261025T010000
END:STANDARD
END:VTIMEZONE
BEGIN:VEVENT
DTSTART;TZID=Europe/London:20250808T100000
DTEND;TZID=Europe/London:20250808T110000
DTSTAMP:20260420T044503
CREATED:20250629T133644Z
LAST-MODIFIED:20250629T133937Z
UID:9899-1754647200-1754650800@dev.steeryourbusiness.com
SUMMARY:Increase Profits by Knowing Your Numbers
DESCRIPTION:Are you ready to boost your profits? Join me for a session on Increasing Profits By Knowing Your Numbers. Dive into the world of financial insights and learn how to make data-driven decisions. Let’s turn those numbers into success stories together! \nThe more you know about the numbers in your business\, the better decisions you will make to take you closer to your goals. \nThe numbers aren’t just about cash in the bank or sales.  There is so much more that you can look at and work on that will give you a better insight into your business and enable you to increase the profits. \nWant to know more? \nSave the date and see you there! \nBook here
URL:https://dev.steeryourbusiness.com/event/increase-profits-by-knowing-your-numbers/
ATTACH;FMTTYPE=image/jpeg:https://dev.steeryourbusiness.com/wp-content/uploads/2025/06/lukas-blazek-mcSDtbWXUZU-unsplash.jpg
END:VEVENT
END:VCALENDAR