BEGIN:VCALENDAR
VERSION:2.0
PRODID:-//Steer Your Business - ECPv6.15.17.1//NONSGML v1.0//EN
CALSCALE:GREGORIAN
METHOD:PUBLISH
X-WR-CALNAME:Steer Your Business
X-ORIGINAL-URL:https://dev.steeryourbusiness.com
X-WR-CALDESC:Events for Steer Your Business
REFRESH-INTERVAL;VALUE=DURATION:PT1H
X-Robots-Tag:noindex
X-PUBLISHED-TTL:PT1H
BEGIN:VTIMEZONE
TZID:Europe/London
BEGIN:DAYLIGHT
TZOFFSETFROM:+0000
TZOFFSETTO:+0100
TZNAME:BST
DTSTART:20240331T010000
END:DAYLIGHT
BEGIN:STANDARD
TZOFFSETFROM:+0100
TZOFFSETTO:+0000
TZNAME:GMT
DTSTART:20241027T010000
END:STANDARD
BEGIN:DAYLIGHT
TZOFFSETFROM:+0000
TZOFFSETTO:+0100
TZNAME:BST
DTSTART:20250330T010000
END:DAYLIGHT
BEGIN:STANDARD
TZOFFSETFROM:+0100
TZOFFSETTO:+0000
TZNAME:GMT
DTSTART:20251026T010000
END:STANDARD
BEGIN:DAYLIGHT
TZOFFSETFROM:+0000
TZOFFSETTO:+0100
TZNAME:BST
DTSTART:20260329T010000
END:DAYLIGHT
BEGIN:STANDARD
TZOFFSETFROM:+0100
TZOFFSETTO:+0000
TZNAME:GMT
DTSTART:20261025T010000
END:STANDARD
END:VTIMEZONE
BEGIN:VEVENT
DTSTART;TZID=Europe/London:20251009T130000
DTEND;TZID=Europe/London:20251009T140000
DTSTAMP:20260420T002645
CREATED:20250912T075522Z
LAST-MODIFIED:20250912T075522Z
UID:9990-1760014800-1760018400@dev.steeryourbusiness.com
SUMMARY:Informal Networking at the Curious Brewery\, Ashford\, Kent
DESCRIPTION:Informal networking at the fabulous Curious Brewery in Ashford\, Kent. \nA great opportunity to make new connections and chat over a delicious lunch in amazing venue. \nIf you’d like to join us\, you can reserve your place here. \nLunch is included (choose from 1 main or 2 small plates) \n 
URL:https://dev.steeryourbusiness.com/event/informal-networking-at-the-curious-brewery-ashford-kent/
LOCATION:Curious Brewery\, Victoria Road\, Ashford\, United Kingdom
CATEGORIES:Networking
ATTACH;FMTTYPE=image/jpeg:https://dev.steeryourbusiness.com/wp-content/uploads/2025/04/Curious-Brewery.jpg
ORGANIZER;CN="Steer Your Business":MAILTO:Sally@steeryourbusiness.com
END:VEVENT
END:VCALENDAR