BEGIN:VCALENDAR
VERSION:2.0
PRODID:-//Steer Your Business - ECPv6.15.17.1//NONSGML v1.0//EN
CALSCALE:GREGORIAN
METHOD:PUBLISH
X-WR-CALNAME:Steer Your Business
X-ORIGINAL-URL:https://dev.steeryourbusiness.com
X-WR-CALDESC:Events for Steer Your Business
REFRESH-INTERVAL;VALUE=DURATION:PT1H
X-Robots-Tag:noindex
X-PUBLISHED-TTL:PT1H
BEGIN:VTIMEZONE
TZID:Europe/London
BEGIN:DAYLIGHT
TZOFFSETFROM:+0000
TZOFFSETTO:+0100
TZNAME:BST
DTSTART:20240331T010000
END:DAYLIGHT
BEGIN:STANDARD
TZOFFSETFROM:+0100
TZOFFSETTO:+0000
TZNAME:GMT
DTSTART:20241027T010000
END:STANDARD
BEGIN:DAYLIGHT
TZOFFSETFROM:+0000
TZOFFSETTO:+0100
TZNAME:BST
DTSTART:20250330T010000
END:DAYLIGHT
BEGIN:STANDARD
TZOFFSETFROM:+0100
TZOFFSETTO:+0000
TZNAME:GMT
DTSTART:20251026T010000
END:STANDARD
BEGIN:DAYLIGHT
TZOFFSETFROM:+0000
TZOFFSETTO:+0100
TZNAME:BST
DTSTART:20260329T010000
END:DAYLIGHT
BEGIN:STANDARD
TZOFFSETFROM:+0100
TZOFFSETTO:+0000
TZNAME:GMT
DTSTART:20261025T010000
END:STANDARD
END:VTIMEZONE
BEGIN:VEVENT
DTSTART;TZID=Europe/London:20251029T183000
DTEND;TZID=Europe/London:20251029T203000
DTSTAMP:20260419T230523
CREATED:20251020T132823Z
LAST-MODIFIED:20251020T132904Z
UID:10124-1761762600-1761769800@dev.steeryourbusiness.com
SUMMARY:Dartford Business Networking
DESCRIPTION:Browns Restaurantis the perfect location for North Kent & South East London businesses get to know each other in a relaxed yet structured atmosphere! Sponsored by QMT Commercialthis event is perfect for startups and seasoned business professionals in all sectors. Whether you are an introvert or confident business person you can easily connect with like-minded individuals\, exchange ideas\, and build valuable relationships. Don’t miss this opportunity to expand your network and grow your business!
URL:https://dev.steeryourbusiness.com/event/dartford-business-networking/
LOCATION:Browns Restaurant\, Bluewater\,The Plaza\, DA9 9SG\, Dartford\, Kent\, DA9 9SG
END:VEVENT
END:VCALENDAR