BEGIN:VCALENDAR
VERSION:2.0
PRODID:-//Steer Your Business - ECPv6.15.17.1//NONSGML v1.0//EN
CALSCALE:GREGORIAN
METHOD:PUBLISH
X-WR-CALNAME:Steer Your Business
X-ORIGINAL-URL:https://dev.steeryourbusiness.com
X-WR-CALDESC:Events for Steer Your Business
REFRESH-INTERVAL;VALUE=DURATION:PT1H
X-Robots-Tag:noindex
X-PUBLISHED-TTL:PT1H
BEGIN:VTIMEZONE
TZID:Europe/London
BEGIN:DAYLIGHT
TZOFFSETFROM:+0000
TZOFFSETTO:+0100
TZNAME:BST
DTSTART:20190331T010000
END:DAYLIGHT
BEGIN:STANDARD
TZOFFSETFROM:+0100
TZOFFSETTO:+0000
TZNAME:GMT
DTSTART:20191027T010000
END:STANDARD
BEGIN:DAYLIGHT
TZOFFSETFROM:+0000
TZOFFSETTO:+0100
TZNAME:BST
DTSTART:20200329T010000
END:DAYLIGHT
BEGIN:STANDARD
TZOFFSETFROM:+0100
TZOFFSETTO:+0000
TZNAME:GMT
DTSTART:20201025T010000
END:STANDARD
BEGIN:DAYLIGHT
TZOFFSETFROM:+0000
TZOFFSETTO:+0100
TZNAME:BST
DTSTART:20210328T010000
END:DAYLIGHT
BEGIN:STANDARD
TZOFFSETFROM:+0100
TZOFFSETTO:+0000
TZNAME:GMT
DTSTART:20211031T010000
END:STANDARD
END:VTIMEZONE
BEGIN:VEVENT
DTSTART;TZID=Europe/London:20200324T080000
DTEND;TZID=Europe/London:20200324T100000
DTSTAMP:20260425T154807
CREATED:20200313T172653Z
LAST-MODIFIED:20200316T185641Z
UID:7603-1585036800-1585044000@dev.steeryourbusiness.com
SUMMARY:4N Canterbury
DESCRIPTION:Breakfast Business Networking Launch \nTake Art – Creativity and Perspective\nKelly talks to us about her passion and how that passion makes people smile. \nCheck with organisers whether this is still going ahead
URL:https://dev.steeryourbusiness.com/event/4n-canterbury/
LOCATION:Kent
CATEGORIES:Networking
ATTACH;FMTTYPE=image/png:https://dev.steeryourbusiness.com/wp-content/uploads/2020/03/4Networking_logo.png
END:VEVENT
END:VCALENDAR