BEGIN:VCALENDAR
VERSION:2.0
PRODID:-//Steer Your Business - ECPv6.15.17.1//NONSGML v1.0//EN
CALSCALE:GREGORIAN
METHOD:PUBLISH
X-WR-CALNAME:Steer Your Business
X-ORIGINAL-URL:https://dev.steeryourbusiness.com
X-WR-CALDESC:Events for Steer Your Business
REFRESH-INTERVAL;VALUE=DURATION:PT1H
X-Robots-Tag:noindex
X-PUBLISHED-TTL:PT1H
BEGIN:VTIMEZONE
TZID:Europe/London
BEGIN:DAYLIGHT
TZOFFSETFROM:+0000
TZOFFSETTO:+0100
TZNAME:BST
DTSTART:20190331T010000
END:DAYLIGHT
BEGIN:STANDARD
TZOFFSETFROM:+0100
TZOFFSETTO:+0000
TZNAME:GMT
DTSTART:20191027T010000
END:STANDARD
BEGIN:DAYLIGHT
TZOFFSETFROM:+0000
TZOFFSETTO:+0100
TZNAME:BST
DTSTART:20200329T010000
END:DAYLIGHT
BEGIN:STANDARD
TZOFFSETFROM:+0100
TZOFFSETTO:+0000
TZNAME:GMT
DTSTART:20201025T010000
END:STANDARD
BEGIN:DAYLIGHT
TZOFFSETFROM:+0000
TZOFFSETTO:+0100
TZNAME:BST
DTSTART:20210328T010000
END:DAYLIGHT
BEGIN:STANDARD
TZOFFSETFROM:+0100
TZOFFSETTO:+0000
TZNAME:GMT
DTSTART:20211031T010000
END:STANDARD
END:VTIMEZONE
BEGIN:VEVENT
DTSTART;TZID=Europe/London:20200902T110000
DTEND;TZID=Europe/London:20200902T120000
DTSTAMP:20260425T041415
CREATED:20200717T084810Z
LAST-MODIFIED:20200826T121531Z
UID:7968-1599044400-1599048000@dev.steeryourbusiness.com
SUMMARY:Steer Your Business Virtual Networking
DESCRIPTION:Bring your coffee and join us for some networking with businesses from across the UK.\nThis is a regular weekly event with a different mix of businesses each time so always worth popping in.
URL:https://dev.steeryourbusiness.com/event/steer-your-business-virtual-networking-8/
ATTACH;FMTTYPE=image/jpeg:https://dev.steeryourbusiness.com/wp-content/uploads/2020/07/Steer-Your-Business-Virtual-Networking.jpg
ORGANIZER;CN="Steer Your Business":MAILTO:Sally@steeryourbusiness.com
END:VEVENT
BEGIN:VEVENT
DTSTART;TZID=Europe/London:20200908T120000
DTEND;TZID=Europe/London:20200908T130000
DTSTAMP:20260425T041415
CREATED:20200720T093021Z
LAST-MODIFIED:20200810T082425Z
UID:7974-1599566400-1599570000@dev.steeryourbusiness.com
SUMMARY:LinkedIn Local Live
DESCRIPTION:Join the event at 12 noon at www.lilocallive.com
URL:https://dev.steeryourbusiness.com/event/linkedin-local-live-2/
END:VEVENT
BEGIN:VEVENT
DTSTART;TZID=Europe/London:20200908T120000
DTEND;TZID=Europe/London:20200908T130000
DTSTAMP:20260425T041415
CREATED:20200720T093229Z
LAST-MODIFIED:20200720T093229Z
UID:7978-1599566400-1599570000@dev.steeryourbusiness.com
SUMMARY:LinkedIn Local Live
DESCRIPTION:Join the live event at 12 noon
URL:https://dev.steeryourbusiness.com/event/linkedin-local-live-4/
END:VEVENT
BEGIN:VEVENT
DTSTART;TZID=Europe/London:20200909T110000
DTEND;TZID=Europe/London:20200909T120000
DTSTAMP:20260425T041415
CREATED:20200826T121721Z
LAST-MODIFIED:20200826T121748Z
UID:8028-1599649200-1599652800@dev.steeryourbusiness.com
SUMMARY:Steer Your Business Virtual Networking
DESCRIPTION:Bring your coffee and join us for some networking with businesses from across the UK.\nThis is a regular weekly event with a different mix of businesses each time so always worth popping in.
URL:https://dev.steeryourbusiness.com/event/steer-your-business-virtual-networking-9/
ATTACH;FMTTYPE=image/jpeg:https://dev.steeryourbusiness.com/wp-content/uploads/2020/07/Steer-Your-Business-Virtual-Networking.jpg
ORGANIZER;CN="Steer Your Business":MAILTO:Sally@steeryourbusiness.com
END:VEVENT
BEGIN:VEVENT
DTSTART;TZID=Europe/London:20200916T110000
DTEND;TZID=Europe/London:20200916T120000
DTSTAMP:20260425T041415
CREATED:20200826T121915Z
LAST-MODIFIED:20200826T121915Z
UID:8030-1600254000-1600257600@dev.steeryourbusiness.com
SUMMARY:Steer Your Business Virtual Networking
DESCRIPTION:Bring your coffee and join us for some networking with businesses from across the UK.\nThis is a regular weekly event with a different mix of businesses each time so always worth popping in.
URL:https://dev.steeryourbusiness.com/event/steer-your-business-virtual-networking-10/
ATTACH;FMTTYPE=image/jpeg:https://dev.steeryourbusiness.com/wp-content/uploads/2020/07/Steer-Your-Business-Virtual-Networking.jpg
ORGANIZER;CN="Steer Your Business":MAILTO:Sally@steeryourbusiness.com
END:VEVENT
BEGIN:VEVENT
DTSTART;TZID=Europe/London:20200922T120000
DTEND;TZID=Europe/London:20200922T130000
DTSTAMP:20260425T041415
CREATED:20200720T093326Z
LAST-MODIFIED:20200720T093326Z
UID:7980-1600776000-1600779600@dev.steeryourbusiness.com
SUMMARY:LinkedIn Local Live
DESCRIPTION:Join the live event at 12 noon
URL:https://dev.steeryourbusiness.com/event/linkedin-local-live-5/
END:VEVENT
BEGIN:VEVENT
DTSTART;TZID=Europe/London:20200923T110000
DTEND;TZID=Europe/London:20200923T120000
DTSTAMP:20260425T041415
CREATED:20200826T122057Z
LAST-MODIFIED:20200826T122057Z
UID:8032-1600858800-1600862400@dev.steeryourbusiness.com
SUMMARY:Steer Your Business Virtual Networking
DESCRIPTION:Bring your coffee and join us for some networking with businesses from across the UK.\nThis is a regular weekly event with a different mix of businesses each time so always worth popping in.
URL:https://dev.steeryourbusiness.com/event/steer-your-business-virtual-networking-11/
ATTACH;FMTTYPE=image/jpeg:https://dev.steeryourbusiness.com/wp-content/uploads/2020/07/Steer-Your-Business-Virtual-Networking.jpg
ORGANIZER;CN="Steer Your Business":MAILTO:Sally@steeryourbusiness.com
END:VEVENT
BEGIN:VEVENT
DTSTART;TZID=Europe/London:20200925T100000
DTEND;TZID=Europe/London:20200925T110000
DTSTAMP:20260425T041415
CREATED:20200907T082509Z
LAST-MODIFIED:20200907T082509Z
UID:8051-1601028000-1601031600@dev.steeryourbusiness.com
SUMMARY:Steer Your Business Virtual Speed Networking
DESCRIPTION:If you’ve tried speed networking face-2-face\, you probably found it noisy and overwhelming. \nVirtual speed networking is totally different.  Using Zoom breakout rooms you get to speak to one person at a time in a quiet room and have a good conversation about each other’s business \nSound good? \nIn an hour we will have 5 or 6 1-2-1s each
URL:https://dev.steeryourbusiness.com/event/steer-your-business-virtual-speed-networking/
ATTACH;FMTTYPE=image/jpeg:https://dev.steeryourbusiness.com/wp-content/uploads/2020/09/Steer-Your-Business-Virtual-Networking-1.jpg
ORGANIZER;CN="Steer Your Business":MAILTO:Sally@steeryourbusiness.com
END:VEVENT
BEGIN:VEVENT
DTSTART;TZID=Europe/London:20200930T110000
DTEND;TZID=Europe/London:20200930T120000
DTSTAMP:20260425T041415
CREATED:20200826T122213Z
LAST-MODIFIED:20200826T122213Z
UID:8034-1601463600-1601467200@dev.steeryourbusiness.com
SUMMARY:Steer Your Business Virtual Networking
DESCRIPTION:Bring your coffee and join us for some networking with businesses from across the UK.\nThis is a regular weekly event with a different mix of businesses each time so always worth popping in.
URL:https://dev.steeryourbusiness.com/event/steer-your-business-virtual-networking-12/
ATTACH;FMTTYPE=image/jpeg:https://dev.steeryourbusiness.com/wp-content/uploads/2020/07/Steer-Your-Business-Virtual-Networking.jpg
ORGANIZER;CN="Steer Your Business":MAILTO:Sally@steeryourbusiness.com
END:VEVENT
END:VCALENDAR