BEGIN:VCALENDAR
VERSION:2.0
PRODID:-//Steer Your Business - ECPv6.15.17.1//NONSGML v1.0//EN
CALSCALE:GREGORIAN
METHOD:PUBLISH
X-WR-CALNAME:Steer Your Business
X-ORIGINAL-URL:https://dev.steeryourbusiness.com
X-WR-CALDESC:Events for Steer Your Business
REFRESH-INTERVAL;VALUE=DURATION:PT1H
X-Robots-Tag:noindex
X-PUBLISHED-TTL:PT1H
BEGIN:VTIMEZONE
TZID:Europe/London
BEGIN:DAYLIGHT
TZOFFSETFROM:+0000
TZOFFSETTO:+0100
TZNAME:BST
DTSTART:20210328T010000
END:DAYLIGHT
BEGIN:STANDARD
TZOFFSETFROM:+0100
TZOFFSETTO:+0000
TZNAME:GMT
DTSTART:20211031T010000
END:STANDARD
BEGIN:DAYLIGHT
TZOFFSETFROM:+0000
TZOFFSETTO:+0100
TZNAME:BST
DTSTART:20220327T010000
END:DAYLIGHT
BEGIN:STANDARD
TZOFFSETFROM:+0100
TZOFFSETTO:+0000
TZNAME:GMT
DTSTART:20221030T010000
END:STANDARD
BEGIN:DAYLIGHT
TZOFFSETFROM:+0000
TZOFFSETTO:+0100
TZNAME:BST
DTSTART:20230326T010000
END:DAYLIGHT
BEGIN:STANDARD
TZOFFSETFROM:+0100
TZOFFSETTO:+0000
TZNAME:GMT
DTSTART:20231029T010000
END:STANDARD
END:VTIMEZONE
BEGIN:VEVENT
DTSTART;TZID=Europe/London:20220120T074500
DTEND;TZID=Europe/London:20220120T093000
DTSTAMP:20260422T174310
CREATED:20211222T185626Z
LAST-MODIFIED:20220109T113600Z
UID:8489-1642664700-1642671000@dev.steeryourbusiness.com
SUMMARY:Omni Networking Kent
DESCRIPTION:When the world gets back to normal\, the meetings are held every fortnight\, and the breakfast meetings start at 7.30 *. This gives you plenty of time to miss the rush hour traffic! \nWe start with open networking then you: \nThe meeting is opened by our Group Director and then starts with a 1 minute round\, split into 3 parts as follows: \n\n15 seconds to introduce yourself and your business\n25 Seconds to explain what you would need to help your business or what kind of clients you are looking for\n20 seconds to ask for an ideal referral\n\nWe then have a coffee break (5 mins) which is your chance to speak to someone of interest you have heard about. If you have already got your 1-2-1 try and arrange a meeting outside the networking room. \nThen you go to your relaxed\, non-rushed 1-2-1 meeting you have set up\, for 15 minutes. \nTime for testimonials and thanks. This is where anyone in the room can thank others for any kind of support ie any business referrals\, free advice given and meetings they have gained as a result of meeting that person
URL:https://dev.steeryourbusiness.com/event/omni-networking-kent/
ATTACH;FMTTYPE=image/jpeg:https://dev.steeryourbusiness.com/wp-content/uploads/2021/12/Omni_Business_Networking_Logo_SQUARE.jpg
END:VEVENT
END:VCALENDAR