BEGIN:VCALENDAR
VERSION:2.0
PRODID:-//Steer Your Business - ECPv6.15.17.1//NONSGML v1.0//EN
CALSCALE:GREGORIAN
METHOD:PUBLISH
X-WR-CALNAME:Steer Your Business
X-ORIGINAL-URL:https://dev.steeryourbusiness.com
X-WR-CALDESC:Events for Steer Your Business
REFRESH-INTERVAL;VALUE=DURATION:PT1H
X-Robots-Tag:noindex
X-PUBLISHED-TTL:PT1H
BEGIN:VTIMEZONE
TZID:Europe/London
BEGIN:DAYLIGHT
TZOFFSETFROM:+0000
TZOFFSETTO:+0100
TZNAME:BST
DTSTART:20210328T010000
END:DAYLIGHT
BEGIN:STANDARD
TZOFFSETFROM:+0100
TZOFFSETTO:+0000
TZNAME:GMT
DTSTART:20211031T010000
END:STANDARD
BEGIN:DAYLIGHT
TZOFFSETFROM:+0000
TZOFFSETTO:+0100
TZNAME:BST
DTSTART:20220327T010000
END:DAYLIGHT
BEGIN:STANDARD
TZOFFSETFROM:+0100
TZOFFSETTO:+0000
TZNAME:GMT
DTSTART:20221030T010000
END:STANDARD
BEGIN:DAYLIGHT
TZOFFSETFROM:+0000
TZOFFSETTO:+0100
TZNAME:BST
DTSTART:20230326T010000
END:DAYLIGHT
BEGIN:STANDARD
TZOFFSETFROM:+0100
TZOFFSETTO:+0000
TZNAME:GMT
DTSTART:20231029T010000
END:STANDARD
END:VTIMEZONE
BEGIN:VEVENT
DTSTART;TZID=Europe/London:20220825T090000
DTEND;TZID=Europe/London:20220825T160000
DTSTAMP:20260422T081550
CREATED:20220407T101843Z
LAST-MODIFIED:20220407T101843Z
UID:8535-1661418000-1661443200@dev.steeryourbusiness.com
SUMMARY:Women In Business Big Show
DESCRIPTION:A fun-packed\, productive day of networking\, pampering\, shopping and business connections.\n\n\n\n\n\nAbout this event\n\n\nThe hottest networking\, exhibition and business information day for women in the South East. \nWhether you’re already in business or are thinking of starting up\, this day is designed for you. \nWe’re bringing together the top holistic therapists\, Psychic Readers\, Beauticians and hand made retailers right next to the professional services we all need to run our business legally\, efficiently and profitably. \n+ 20 Speakers \n+ Networking \n+ Start-Up Opportunities \n+ Retail Stands \n+ Business Stands \nBelow is just a selection of what’s on offer\, for full details visit the Women In Business Big Show Website \nIt’s free entry to join in\, relax in the cafe\, chat\, network and browse the retail and exhibition stands\, or get more involved in one of our specialist zones: \nStart-Up Zone \nIdeas for starting your business if you’ve not done that yet\, as well as help with bank accounting set up. \nGrowth Zone \nWith a focus on marketing\, sales and momentum. As well as exhibitors there will be workshops and talks. \nFit For Business Zone \nSuccessful business is about keeping a balance\, keeping active and getting enough rest and managing this yourself\, because you’re the boss and no-one sends the boss home at 5pm. And of course\, looking and feeling fantastic! \nOur Aim For Your Day \nYou will meet new friends for collaboration\, support and maybe catch up with a few faces you’ve not seen for a while. \nFind out what’s available in Kent to help you start and grow your business. \nHave a Pamper\, a Psychic Reading and maybe a bit of a beauty treat. \nTap into the best techniques\, tips and ideas to help you start and grow your business. \n\n\nSponsorship \nThere are sponsorship opportunities available\, please call Sian on 01634 566321 or 07951 168863 or email sian@sianmurphy.com \nAbout The Organiser \nSian Murphy hosts the live weekly Women In Business Radio Show on Channel Radio and runs regular events and fairs for pampering\, health\, beauty and hand made specialist items. \nThe Venue \nThe Longfield Academy is a bright\, airy and inspirational building and we have the run of it for the whole day. With atriums\, a theatre and restaurant is the perfect venue and we want to thank them for letting us loose in it! \nGetting There \nThere is free parking on site \nLongfield Station is 0.5 miles away. \nEbbsfleet International is 5 miles away
URL:https://dev.steeryourbusiness.com/event/women-in-business-big-show/
END:VEVENT
END:VCALENDAR