BEGIN:VCALENDAR
VERSION:2.0
PRODID:-//Steer Your Business - ECPv6.15.17.1//NONSGML v1.0//EN
CALSCALE:GREGORIAN
METHOD:PUBLISH
X-WR-CALNAME:Steer Your Business
X-ORIGINAL-URL:https://dev.steeryourbusiness.com
X-WR-CALDESC:Events for Steer Your Business
REFRESH-INTERVAL;VALUE=DURATION:PT1H
X-Robots-Tag:noindex
X-PUBLISHED-TTL:PT1H
BEGIN:VTIMEZONE
TZID:Europe/London
BEGIN:DAYLIGHT
TZOFFSETFROM:+0000
TZOFFSETTO:+0100
TZNAME:BST
DTSTART:20210328T010000
END:DAYLIGHT
BEGIN:STANDARD
TZOFFSETFROM:+0100
TZOFFSETTO:+0000
TZNAME:GMT
DTSTART:20211031T010000
END:STANDARD
BEGIN:DAYLIGHT
TZOFFSETFROM:+0000
TZOFFSETTO:+0100
TZNAME:BST
DTSTART:20220327T010000
END:DAYLIGHT
BEGIN:STANDARD
TZOFFSETFROM:+0100
TZOFFSETTO:+0000
TZNAME:GMT
DTSTART:20221030T010000
END:STANDARD
BEGIN:DAYLIGHT
TZOFFSETFROM:+0000
TZOFFSETTO:+0100
TZNAME:BST
DTSTART:20230326T010000
END:DAYLIGHT
BEGIN:STANDARD
TZOFFSETFROM:+0100
TZOFFSETTO:+0000
TZNAME:GMT
DTSTART:20231029T010000
END:STANDARD
END:VTIMEZONE
BEGIN:VEVENT
DTSTART;TZID=Europe/London:20221011T080000
DTEND;TZID=Europe/London:20221011T170000
DTSTAMP:20260422T052238
CREATED:20221011T124719Z
LAST-MODIFIED:20221011T124719Z
UID:8780-1665475200-1665507600@dev.steeryourbusiness.com
SUMMARY:The 3 Biggest Lead Generation Mistakes That Small Business Make ... And How To Overcome Them All
DESCRIPTION:The biggest issue small businesses have is lead generation. \nMore leads = more clients = more cash in the bank \nDuring this workshop I’m going to share how to increase your lead generation using a simple\, proven and tested system that you can implement in your business when you leave. \nWe will go through the step by step system so that you can use it in your own business. \nBy the end of the workshop you will have an advert ready to use \nhttps://www.eventbrite.co.uk/e/the-three-biggest-lead-generation-mistakes-small-businesses-make-tickets-439565782087
URL:https://dev.steeryourbusiness.com/event/the-3-biggest-lead-generation-mistakes-that-small-businesses-make/
ATTACH;FMTTYPE=image/jpeg:https://dev.steeryourbusiness.com/wp-content/uploads/2022/10/The-Three-Biggest-Lead-Generation-Mistakes-Small-Businesses-Make…-And-How-To-Overcome-Them-All.jpg
END:VEVENT
BEGIN:VEVENT
DTSTART;TZID=Europe/London:20221012T163000
DTEND;TZID=Europe/London:20221012T183000
DTSTAMP:20260422T052238
CREATED:20220816T125736Z
LAST-MODIFIED:20220819T082906Z
UID:8698-1665592200-1665599400@dev.steeryourbusiness.com
SUMMARY:Networking In Kent - Folkestone
DESCRIPTION:A new venue for Steer Your Business networking but still on the same theme. \nThis time we’ll be at Kipps Alehouse in Folkestone for some informal networking where you can meet like-minded people and enjoy some great conversations \nWe will be joined by one of our partners\, Sleeping Giant Media\, who will talk to us about social media in our businesses.
URL:https://dev.steeryourbusiness.com/event/networking-in-kent-folkestone/
ATTACH;FMTTYPE=image/jpeg:https://dev.steeryourbusiness.com/wp-content/uploads/2022/07/Kipps-Alehouse.jpg
ORGANIZER;CN="Steer Your Business":MAILTO:Sally@steeryourbusiness.com
END:VEVENT
BEGIN:VEVENT
DTSTART;TZID=Europe/London:20221014T120000
DTEND;TZID=Europe/London:20221014T140000
DTSTAMP:20260422T052238
CREATED:20221003T134134Z
LAST-MODIFIED:20221003T134134Z
UID:8766-1665748800-1665756000@dev.steeryourbusiness.com
SUMMARY:Lunch & Learn: Strategies To Increase Profits Without Spending a Penny On Marketing
DESCRIPTION:A Lunch & Learn session to share strategies to increase profitability without spending a penny on marketing and advertising. \nBy focussing on making small changes\, you can exponentially grow your business so that you can work smarter and not harder \nDuring the workshop\, we will look at the key areas of your business which will make a difference. \nYou will have a workbook so that you can make notes and keep a note of the numbers as you look at each strategy. \nhttps://www.eventbrite.co.uk/e/lunch-learn-strategies-to-kickstart-your-business-increase-profits-tickets-430887454977 \nAfter the workshop\, all participants will be offered a FREE no obligation personal review of their business which will generate a report showing exactly what changes need to be made to realise the increased profit
URL:https://dev.steeryourbusiness.com/event/lunch-learn-strategies-to-increase-profits-without-spending-a-penny-on-marketing/
ATTACH;FMTTYPE=image/jpeg:https://dev.steeryourbusiness.com/wp-content/uploads/2022/10/business-gd731cfaf6_1920.jpg
END:VEVENT
BEGIN:VEVENT
DTSTART;TZID=Europe/London:20221017T120000
DTEND;TZID=Europe/London:20221017T140000
DTSTAMP:20260422T052238
CREATED:20221003T125548Z
LAST-MODIFIED:20221003T125548Z
UID:8762-1666008000-1666015200@dev.steeryourbusiness.com
SUMMARY:Lunch & Learn:  Strategies To Increase The Profitability Of Your Business
DESCRIPTION:Are you working hard but not getting the returns you deserve? \nIn this Lunch & Learn session\, we will show you how you can implement some simple strategies which will increase the profitability of your business without having to spend a penny on marketing and advertising \nWe will look at the numbers in a business and how you can increase leads\, increase conversions\, increase transactions\, increase income and increase profits. \nSound like a lot of work? \nThe numbers grow exponentially so once you have a few key strategies in place\, they just grow
URL:https://dev.steeryourbusiness.com/event/lunch-learn-strategies-to-increase-the-profitability-of-your-business/
ATTACH;FMTTYPE=image/jpeg:https://dev.steeryourbusiness.com/wp-content/uploads/2022/10/business-gd731cfaf6_1920.jpg
END:VEVENT
END:VCALENDAR