BEGIN:VCALENDAR
VERSION:2.0
PRODID:-//Steer Your Business - ECPv6.15.17.1//NONSGML v1.0//EN
CALSCALE:GREGORIAN
METHOD:PUBLISH
X-WR-CALNAME:Steer Your Business
X-ORIGINAL-URL:https://dev.steeryourbusiness.com
X-WR-CALDESC:Events for Steer Your Business
REFRESH-INTERVAL;VALUE=DURATION:PT1H
X-Robots-Tag:noindex
X-PUBLISHED-TTL:PT1H
BEGIN:VTIMEZONE
TZID:Europe/London
BEGIN:DAYLIGHT
TZOFFSETFROM:+0000
TZOFFSETTO:+0100
TZNAME:BST
DTSTART:20230326T010000
END:DAYLIGHT
BEGIN:STANDARD
TZOFFSETFROM:+0100
TZOFFSETTO:+0000
TZNAME:GMT
DTSTART:20231029T010000
END:STANDARD
BEGIN:DAYLIGHT
TZOFFSETFROM:+0000
TZOFFSETTO:+0100
TZNAME:BST
DTSTART:20240331T010000
END:DAYLIGHT
BEGIN:STANDARD
TZOFFSETFROM:+0100
TZOFFSETTO:+0000
TZNAME:GMT
DTSTART:20241027T010000
END:STANDARD
BEGIN:DAYLIGHT
TZOFFSETFROM:+0000
TZOFFSETTO:+0100
TZNAME:BST
DTSTART:20250330T010000
END:DAYLIGHT
BEGIN:STANDARD
TZOFFSETFROM:+0100
TZOFFSETTO:+0000
TZNAME:GMT
DTSTART:20251026T010000
END:STANDARD
END:VTIMEZONE
BEGIN:VEVENT
DTSTART;TZID=Europe/London:20240503T120000
DTEND;TZID=Europe/London:20240503T140000
DTSTAMP:20260420T234350
CREATED:20240404T072735Z
LAST-MODIFIED:20240404T072735Z
UID:9521-1714737600-1714744800@dev.steeryourbusiness.com
SUMMARY:Networking Lunch in at the Old Mill\, Ashford
DESCRIPTION:Join us for a fabulous lunch with casual networking and an opportunity to meet new people and build your network. \nThese informal events have proved to be very popular with some great connections made which have resulted in business \nBook your place here now
URL:https://dev.steeryourbusiness.com/event/networking-lunch-in-at-the-old-mill-ashford/
LOCATION:The Old Mill\, Ashford\, Ashford\, Kent\, United Kingdom
CATEGORIES:Networking
ORGANIZER;CN="Steer Your Business":MAILTO:Sally@steeryourbusiness.com
END:VEVENT
BEGIN:VEVENT
DTSTART;TZID=Europe/London:20240510T100000
DTEND;TZID=Europe/London:20240510T120000
DTSTAMP:20260420T234350
CREATED:20240404T113318Z
LAST-MODIFIED:20240404T113318Z
UID:9526-1715335200-1715342400@dev.steeryourbusiness.com
SUMMARY:Steer Your Business Mastermind & More!
DESCRIPTION:A mastermind is an extremely powerful tool to help support and grow a business. \nWith this in mind\, we are running a monthly mastermind event but with additional support. \nAll participants will receive a 1-2-1 strategy session as well as the opportunity to promote their business with an article and/or a 1/4 page advert in Steer Your Business magazine. \nEverything included in one bundle! \nPlaces will be limited to 8 so that everyone has time to have their say and share their issues.  We will also have actions so that there is an element of accountability too. \nTo find out more and to book your place\, visit Eventbrite here
URL:https://dev.steeryourbusiness.com/event/steer-your-business-mastermind-more/
ORGANIZER;CN="Steer Your Business":MAILTO:Sally@steeryourbusiness.com
END:VEVENT
BEGIN:VEVENT
DTSTART;TZID=Europe/London:20240510T140000
DTEND;TZID=Europe/London:20240510T160000
DTSTAMP:20260420T234350
CREATED:20240408T164301Z
LAST-MODIFIED:20240408T164334Z
UID:9532-1715349600-1715356800@dev.steeryourbusiness.com
SUMMARY:Steer Your Business Mastermind & More
DESCRIPTION:Welcome to Steer Your Business Mastermind & More! – the ultimate online event for entrepreneurs looking to level up their business game. Join us for an afternoon filled with insightful discussions and networking opportunities with like-minded individuals. \nWhether you’re a seasoned business owner or just starting out\, this event is perfect for anyone looking to take their business to the next level. \nThe event includes a mastermind with an opportunity to discuss the “elephant in the room” that every business has and find a solution by talking to others in a similar position who can share their knowledge and experience to help find a solution. \nJoining the mastermind also enables you to have a 1-2-1 strategy session as well as promote your business with an article and/or advert in Steer Your Business magazine. \nThis will be a monthly event so not just a one off. \nThe group will be limited to 8 people so that everyone has time to have their say and set some actions for the following month giving that much needed accountability which small businesses are often missing. \nDon’t miss out on this incredible opportunity to learn\, grow\, and connect with fellow entrepreneurs. Secure your spot today!
URL:https://dev.steeryourbusiness.com/event/steer-your-business-mastermind-more-2/
ORGANIZER;CN="Steer Your Business":MAILTO:Sally@steeryourbusiness.com
END:VEVENT
END:VCALENDAR