BEGIN:VCALENDAR
VERSION:2.0
PRODID:-//Steer Your Business - ECPv6.15.17.1//NONSGML v1.0//EN
CALSCALE:GREGORIAN
METHOD:PUBLISH
X-WR-CALNAME:Steer Your Business
X-ORIGINAL-URL:https://dev.steeryourbusiness.com
X-WR-CALDESC:Events for Steer Your Business
REFRESH-INTERVAL;VALUE=DURATION:PT1H
X-Robots-Tag:noindex
X-PUBLISHED-TTL:PT1H
BEGIN:VTIMEZONE
TZID:Europe/London
BEGIN:DAYLIGHT
TZOFFSETFROM:+0000
TZOFFSETTO:+0100
TZNAME:BST
DTSTART:20240331T010000
END:DAYLIGHT
BEGIN:STANDARD
TZOFFSETFROM:+0100
TZOFFSETTO:+0000
TZNAME:GMT
DTSTART:20241027T010000
END:STANDARD
BEGIN:DAYLIGHT
TZOFFSETFROM:+0000
TZOFFSETTO:+0100
TZNAME:BST
DTSTART:20250330T010000
END:DAYLIGHT
BEGIN:STANDARD
TZOFFSETFROM:+0100
TZOFFSETTO:+0000
TZNAME:GMT
DTSTART:20251026T010000
END:STANDARD
BEGIN:DAYLIGHT
TZOFFSETFROM:+0000
TZOFFSETTO:+0100
TZNAME:BST
DTSTART:20260329T010000
END:DAYLIGHT
BEGIN:STANDARD
TZOFFSETFROM:+0100
TZOFFSETTO:+0000
TZNAME:GMT
DTSTART:20261025T010000
END:STANDARD
END:VTIMEZONE
BEGIN:VEVENT
DTSTART;TZID=Europe/London:20250911T130000
DTEND;TZID=Europe/London:20250911T140000
DTSTAMP:20260420T002730
CREATED:20250811T094129Z
LAST-MODIFIED:20250811T095701Z
UID:9917-1757595600-1757599200@dev.steeryourbusiness.com
SUMMARY:Networking Lunch at the Curious Brewery
DESCRIPTION:Join us for an informal networking lunch at the amazing Curious Brewery in Ashford\, Kent. \nGreat conversation\, great food and some great connections \nLunch is included! \nReserve your place here \n 
URL:https://dev.steeryourbusiness.com/event/networking-lunch-at-the-curious-brewery-2/
LOCATION:Curious Brewery\, Victoria Road\, Ashford\, United Kingdom
ATTACH;FMTTYPE=image/jpeg:https://dev.steeryourbusiness.com/wp-content/uploads/2025/04/Curious-Brewery.jpg
ORGANIZER;CN="Steer Your Business":MAILTO:Sally@steeryourbusiness.com
END:VEVENT
BEGIN:VEVENT
DTSTART;TZID=Europe/London:20250926T130000
DTEND;TZID=Europe/London:20250926T140000
DTSTAMP:20260420T002730
CREATED:20250902T095111Z
LAST-MODIFIED:20250902T095111Z
UID:9942-1758891600-1758895200@dev.steeryourbusiness.com
SUMMARY:Networking Lunch at the Park Gate Inn\, Maidstone
DESCRIPTION:Join us for an informal networking lunch at the lovely Park Gate Inn\, nr Leeds Castle\, Maidstone on Friday\, 26 September at 1 pm. \nIt’s a great opportunity to meet like-minded businesses over a delicious lunch (which is included) and make some new connections. \nWe look forward to finding out more about your business and how we can support you \nThere is free parking at the venue \nBook here
URL:https://dev.steeryourbusiness.com/event/networking-lunch-at-the-park-gate-inn-maidstone/
LOCATION:Park Gate Inn\, Nr Leeds Castle\, Ashford Road\, Hollingbourne\, Maidstone\, Kent\, United Kingdom
CATEGORIES:Networking
ATTACH;FMTTYPE=image/jpeg:https://dev.steeryourbusiness.com/wp-content/uploads/2025/09/The-Park-Gate-Inn.jpg
ORGANIZER;CN="Steer Your Business":MAILTO:Sally@steeryourbusiness.com
END:VEVENT
END:VCALENDAR