BEGIN:VCALENDAR
VERSION:2.0
PRODID:-//Steer Your Business - ECPv6.15.17.1//NONSGML v1.0//EN
CALSCALE:GREGORIAN
METHOD:PUBLISH
X-WR-CALNAME:Steer Your Business
X-ORIGINAL-URL:https://dev.steeryourbusiness.com
X-WR-CALDESC:Events for Steer Your Business
REFRESH-INTERVAL;VALUE=DURATION:PT1H
X-Robots-Tag:noindex
X-PUBLISHED-TTL:PT1H
BEGIN:VTIMEZONE
TZID:Europe/London
BEGIN:DAYLIGHT
TZOFFSETFROM:+0000
TZOFFSETTO:+0100
TZNAME:BST
DTSTART:20250330T010000
END:DAYLIGHT
BEGIN:STANDARD
TZOFFSETFROM:+0100
TZOFFSETTO:+0000
TZNAME:GMT
DTSTART:20251026T010000
END:STANDARD
BEGIN:DAYLIGHT
TZOFFSETFROM:+0000
TZOFFSETTO:+0100
TZNAME:BST
DTSTART:20260329T010000
END:DAYLIGHT
BEGIN:STANDARD
TZOFFSETFROM:+0100
TZOFFSETTO:+0000
TZNAME:GMT
DTSTART:20261025T010000
END:STANDARD
BEGIN:DAYLIGHT
TZOFFSETFROM:+0000
TZOFFSETTO:+0100
TZNAME:BST
DTSTART:20270328T010000
END:DAYLIGHT
BEGIN:STANDARD
TZOFFSETFROM:+0100
TZOFFSETTO:+0000
TZNAME:GMT
DTSTART:20271031T010000
END:STANDARD
END:VTIMEZONE
BEGIN:VEVENT
DTSTART;TZID=Europe/London:20260921T090000
DTEND;TZID=Europe/London:20260921T163000
DTSTAMP:20260419T195431
CREATED:20260206T133001Z
LAST-MODIFIED:20260206T133001Z
UID:10398-1789981200-1790008200@dev.steeryourbusiness.com
SUMMARY:Circle Networks Live 2026
DESCRIPTION:In Birmingham \nCome as you are. Leave with what you’ve been missing.\nBefore Circle Networks Live 2026:\nA little alone in your business journey\nUnsure how to turn your ideas into action\nTired of meeting people that lead to nothing \nAfter Circle Networks Live 2026:\n✅ Clear next steps tailored to your business\n✅ Deeper relationships that create opportunities\n✅ Renewed energy\, direction\, and community \nThis isn’t just a feel-good day\, it’s the shift you’ve been needing.
URL:https://dev.steeryourbusiness.com/event/circle-networks-live-2026/
CATEGORIES:Conference
ATTACH;FMTTYPE=image/jpeg:https://dev.steeryourbusiness.com/wp-content/uploads/2026/01/circle-networks-logo.jpg
END:VEVENT
BEGIN:VEVENT
DTSTART;TZID=Europe/London:20260930T100000
DTEND;TZID=Europe/London:20260930T150000
DTSTAMP:20260419T195431
CREATED:20260206T142651Z
LAST-MODIFIED:20260206T142651Z
UID:10400-1790762400-1790780400@dev.steeryourbusiness.com
SUMMARY:Bromley Business Show
DESCRIPTION:Bromley Business Show is the ultimate networking event for all ambitious businesses who are looking to grow and prosper. \nIf you’re looking to raise your brand awareness\, meet with potential customers\, generate leads\, build your database and increase exposure in the London borough of Bromley\, Kent and Surrey you really must consider exhibiting at our next upcoming exhibition. \nOur event brings this community together in one place\, under one roof. \n  \n  \nBromley Business Show 2026 – Brilliant Businesses
URL:https://dev.steeryourbusiness.com/event/bromley-business-show/
LOCATION:Oakley House\, Bromley Common\, Bromley\, Bromley
END:VEVENT
END:VCALENDAR