BEGIN:VCALENDAR
VERSION:2.0
PRODID:-//Steer Your Business - ECPv6.15.17.1//NONSGML v1.0//EN
CALSCALE:GREGORIAN
METHOD:PUBLISH
X-WR-CALNAME:Steer Your Business
X-ORIGINAL-URL:https://dev.steeryourbusiness.com
X-WR-CALDESC:Events for Steer Your Business
REFRESH-INTERVAL;VALUE=DURATION:PT1H
X-Robots-Tag:noindex
X-PUBLISHED-TTL:PT1H
BEGIN:VTIMEZONE
TZID:Europe/London
BEGIN:DAYLIGHT
TZOFFSETFROM:+0000
TZOFFSETTO:+0100
TZNAME:BST
DTSTART:20230326T010000
END:DAYLIGHT
BEGIN:STANDARD
TZOFFSETFROM:+0100
TZOFFSETTO:+0000
TZNAME:GMT
DTSTART:20231029T010000
END:STANDARD
BEGIN:DAYLIGHT
TZOFFSETFROM:+0000
TZOFFSETTO:+0100
TZNAME:BST
DTSTART:20240331T010000
END:DAYLIGHT
BEGIN:STANDARD
TZOFFSETFROM:+0100
TZOFFSETTO:+0000
TZNAME:GMT
DTSTART:20241027T010000
END:STANDARD
BEGIN:DAYLIGHT
TZOFFSETFROM:+0000
TZOFFSETTO:+0100
TZNAME:BST
DTSTART:20250330T010000
END:DAYLIGHT
BEGIN:STANDARD
TZOFFSETFROM:+0100
TZOFFSETTO:+0000
TZNAME:GMT
DTSTART:20251026T010000
END:STANDARD
END:VTIMEZONE
BEGIN:VEVENT
DTSTART;TZID=Europe/London:20240912T063000
DTEND;TZID=Europe/London:20240912T093000
DTSTAMP:20260421T062149
CREATED:20240829T182755Z
LAST-MODIFIED:20240829T182755Z
UID:9764-1726122600-1726133400@dev.steeryourbusiness.com
SUMMARY:BBN Dartford
DESCRIPTION:Our Dartford event is a Thursday fortnightly business networking breakfast held at Princes Park\, Grassbanks\, Dartford\, home of Dartford FC and one of Kent’s premier venues. \nIf you would like more information on how it works\, please call Brian Wakefield on 01622 682667 or 07973 139959 or email  brian@bbnetworking.co.uk \nWe run a series of regular Kent based business networking events\ndesigned to help promote\, support and advise the BBN community. \n\nThe fortnightly business breakfast networking event with a difference – Low Annual Membership Fee\, No Joining Fees and no obligation to attend every event. \nJust book in for the dates of your choice (contact Brian for dates and availability)\, pay for your breakfast\, relax and enjoy meeting new business contacts while building relationships and watching your business grow. \nOur meetings open from 6.30am for coffee and open networking. We sit down at 7.20am for the ‘60’ seconds round. 8.15 sees a 10 minute member presentation\, 8.30 breakfast and lots more networking until approx 9.30am (That bit is up to you). Meeting fee – £21 (Members) or £25 (Non-members). \nPlease note once meeting places are booked\, I need to be informed of any cancellations for \nAshford – preceding Wednesday 5pm\nDartford – preceding Friday 5pm\nMaidstone – preceding Monday 5pm\nMedway – preceding Thursday 5pm \nThese are the latest times to advise me and will save you still having to pay the meeting fee. \nBBN – Where business people enjoy doing business.
URL:https://dev.steeryourbusiness.com/event/bbn-dartford/
LOCATION:Dartford Football Club\, Princes Park\, Grassbanks\, Dartford\, Kent\, DA1 1RT\, United Kingdom
CATEGORIES:Networking
ATTACH;FMTTYPE=image/png:https://dev.steeryourbusiness.com/wp-content/uploads/2024/08/BBN-FRONT-PAGE-LOGO.png
ORGANIZER;CN="BBN":MAILTO:brian@bbnetworking.co.uk
END:VEVENT
BEGIN:VEVENT
DTSTART;TZID=Europe/London:20240924T063000
DTEND;TZID=Europe/London:20240924T093000
DTSTAMP:20260421T062149
CREATED:20240829T180541Z
LAST-MODIFIED:20240829T180541Z
UID:9758-1727159400-1727170200@dev.steeryourbusiness.com
SUMMARY:BBN Ashford
DESCRIPTION:We run a series of regular Kent based business networking events\ndesigned to help promote\, support and advise the BBN community. \n\nThe fortnightly business breakfast networking event with a difference – Low Annual Membership Fee\, No Joining Fees and no obligation to attend every event.\n  \nJust book in for the dates of your choice (contact Brian for dates and availability)\, pay for your breakfast\, relax and enjoy meeting new business contacts while building relationships and watching your business grow. \nOur meetings open from 6.30am for coffee and open networking. We sit down at 7.20am for the ‘60’ seconds round. 8.15 sees a 10 minute member presentation\, 8.30 breakfast and lots more networking until approx 9.30am (That bit is up to you). Meeting fee – £21 (Members) or £25 (Non-members). \nPlease note once meeting places are booked\, I need to be informed of any cancellations for \nAshford – preceding Wednesday 5pm\nDartford – preceding Friday 5pm\nMaidstone – preceding Monday 5pm\nMedway – preceding Thursday 5pm \nThese are the latest times to advise me and will save you still having to pay the meeting fee. \nBBN – Where business people enjoy doing business.\n  \nAt less than 2 minutes and a stones throw from Junctions 10/10a of the M20\, Truckstop is an ideally placed venue for East Kent Businesses.\nWe are delighted to be working with Darren\, Simon and the team there from October 2022.\nCome and join us here\, enjoy the spacious facilities\, and some of the latest technology – the coffee machines really are something else!
URL:https://dev.steeryourbusiness.com/event/bbn-ashford-2/
LOCATION:Ashford International Truckstop (AIT)\, Arrowhead Road\, Sevington\,\, Ashford\,\, Kent\, TN24 0FL\, United Kingdom
CATEGORIES:Networking
ATTACH;FMTTYPE=image/png:https://dev.steeryourbusiness.com/wp-content/uploads/2024/08/BBN-FRONT-PAGE-LOGO.png
ORGANIZER;CN="BBN":MAILTO:brian@bbnetworking.co.uk
END:VEVENT
END:VCALENDAR